BEGIN:VCALENDAR
VERSION:2.0
PRODID:-//Columbia International College - ECPv4.6.20.1//NONSGML v1.0//EN
CALSCALE:GREGORIAN
METHOD:PUBLISH
X-WR-CALNAME:Columbia International College
X-ORIGINAL-URL:https://start.cic-totalcare.com
X-WR-CALDESC:Events for Columbia International College
BEGIN:VEVENT
DTSTART;TZID=UTC+0:20221215T130000
DTEND;TZID=UTC+0:20221215T140000
DTSTAMP:20260421T103349
CREATED:20221021T200840Z
LAST-MODIFIED:20221021T200840Z
UID:2618-1671109200-1671112800@start.cic-totalcare.com
SUMMARY:Workshop - How to Breakdown your Experiences to Answer Almost any Questions
DESCRIPTION:
URL:https://start.cic-totalcare.com/event/workshop-how-to-breakdown-your-experiences-to-answer-almost-any-questions-2/
CATEGORIES:UPO
END:VEVENT
END:VCALENDAR