BEGIN:VCALENDAR
VERSION:2.0
PRODID:-//Columbia International College - ECPv4.6.20.1//NONSGML v1.0//EN
CALSCALE:GREGORIAN
METHOD:PUBLISH
X-WR-CALNAME:Columbia International College
X-ORIGINAL-URL:https://start.cic-totalcare.com
X-WR-CALDESC:Events for Columbia International College
BEGIN:VEVENT
DTSTART;TZID=UTC+0:20251124T110000
DTEND;TZID=UTC+0:20251124T140000
DTSTAMP:20260422T083909
CREATED:20251022T165156Z
LAST-MODIFIED:20251022T165156Z
UID:7065-1763982000-1763992800@start.cic-totalcare.com
SUMMARY:UPO - OUAC DROP-IN HELP SESSIONS
DESCRIPTION:
URL:https://start.cic-totalcare.com/event/upo-ouac-drop-in-help-sessions-9/
END:VEVENT
END:VCALENDAR