BEGIN:VCALENDAR
VERSION:2.0
PRODID:-//Columbia International College - ECPv4.6.20.1//NONSGML v1.0//EN
CALSCALE:GREGORIAN
METHOD:PUBLISH
X-WR-CALNAME:Columbia International College
X-ORIGINAL-URL:https://start.cic-totalcare.com
X-WR-CALDESC:Events for Columbia International College
BEGIN:VEVENT
DTSTART;TZID=UTC+0:20251021T160000
DTEND;TZID=UTC+0:20251021T170000
DTSTAMP:20260422T114932
CREATED:20250922T165307Z
LAST-MODIFIED:20250922T165307Z
UID:6820-1761062400-1761066000@start.cic-totalcare.com
SUMMARY:UPO - ONTARIO UNIVERSITY APPLICATION CENTRE (OUAC) WORKSHOP
DESCRIPTION:
URL:https://start.cic-totalcare.com/event/upo-ontario-university-application-centre-ouac-workshop/
END:VEVENT
END:VCALENDAR