BEGIN:VCALENDAR
VERSION:2.0
PRODID:-//Columbia International College - ECPv4.6.20.1//NONSGML v1.0//EN
CALSCALE:GREGORIAN
METHOD:PUBLISH
X-WR-CALNAME:Columbia International College
X-ORIGINAL-URL:https://start.cic-totalcare.com
X-WR-CALDESC:Events for Columbia International College
BEGIN:VEVENT
DTSTART;TZID=UTC+0:20251030T160000
DTEND;TZID=UTC+0:20251030T170000
DTSTAMP:20260422T084224
CREATED:20250922T172313Z
LAST-MODIFIED:20250922T172313Z
UID:6838-1761840000-1761843600@start.cic-totalcare.com
SUMMARY:UPO - HEALTH SCIENCE SUPPLEMENT APPLICATION WORKHOP
DESCRIPTION:
URL:https://start.cic-totalcare.com/event/upo-health-science-supplement-application-workhop/
END:VEVENT
END:VCALENDAR