BEGIN:VCALENDAR
VERSION:2.0
PRODID:-//Columbia International College - ECPv4.6.20.1//NONSGML v1.0//EN
CALSCALE:GREGORIAN
METHOD:PUBLISH
X-WR-CALNAME:Columbia International College
X-ORIGINAL-URL:https://start.cic-totalcare.com
X-WR-CALDESC:Events for Columbia International College
BEGIN:VEVENT
DTSTART;VALUE=DATE:20241107
DTEND;VALUE=DATE:20241108
DTSTAMP:20260422T083827
CREATED:20241025T161502Z
LAST-MODIFIED:20241025T161502Z
UID:5658-1730937600-1731023999@start.cic-totalcare.com
SUMMARY:SLD - VOLLEYBALL INTRAMURALS
DESCRIPTION:
URL:https://start.cic-totalcare.com/event/sld-volleyball-intramurals/
END:VEVENT
END:VCALENDAR