BEGIN:VCALENDAR
VERSION:2.0
PRODID:-//Columbia International College - ECPv4.6.20.1//NONSGML v1.0//EN
CALSCALE:GREGORIAN
METHOD:PUBLISH
X-WR-CALNAME:Columbia International College
X-ORIGINAL-URL:https://start.cic-totalcare.com
X-WR-CALDESC:Events for Columbia International College
BEGIN:VEVENT
DTSTART;TZID=UTC+0:20251105T080000
DTEND;TZID=UTC+0:20251105T170000
DTSTAMP:20260422T083546
CREATED:20251024T204805Z
LAST-MODIFIED:20251024T204805Z
UID:7076-1762329600-1762362000@start.cic-totalcare.com
SUMMARY:SLD - VOLLEYBALL INTRAMURAL
DESCRIPTION:
URL:https://start.cic-totalcare.com/event/sld-volleyball-intramural/
END:VEVENT
END:VCALENDAR