BEGIN:VCALENDAR
VERSION:2.0
PRODID:-//Columbia International College - ECPv4.6.20.1//NONSGML v1.0//EN
CALSCALE:GREGORIAN
METHOD:PUBLISH
X-WR-CALNAME:Columbia International College
X-ORIGINAL-URL:https://start.cic-totalcare.com
X-WR-CALDESC:Events for Columbia International College
BEGIN:VEVENT
DTSTART;TZID=UTC+0:20251003T080000
DTEND;TZID=UTC+0:20251003T170000
DTSTAMP:20260422T101728
CREATED:20250919T195150Z
LAST-MODIFIED:20250919T195150Z
UID:6709-1759478400-1759510800@start.cic-totalcare.com
SUMMARY:SLD - VARSITY BASKETBALL TOURNAMENT
DESCRIPTION:
URL:https://start.cic-totalcare.com/event/sld-varsity-basketball-tournament-2/
END:VEVENT
END:VCALENDAR