BEGIN:VCALENDAR
VERSION:2.0
PRODID:-//Columbia International College - ECPv4.6.20.1//NONSGML v1.0//EN
CALSCALE:GREGORIAN
METHOD:PUBLISH
X-WR-CALNAME:Columbia International College
X-ORIGINAL-URL:https://start.cic-totalcare.com
X-WR-CALDESC:Events for Columbia International College
BEGIN:VEVENT
DTSTART;VALUE=DATE:20251010
DTEND;VALUE=DATE:20251013
DTSTAMP:20260422T102301
CREATED:20250922T195204Z
LAST-MODIFIED:20250922T195204Z
UID:6903-1760054400-1760313599@start.cic-totalcare.com
SUMMARY:SLD - DUKE OF ED SILVER TRIP
DESCRIPTION:
URL:https://start.cic-totalcare.com/event/sld-duke-of-ed-silver-trip/
END:VEVENT
END:VCALENDAR