BEGIN:VCALENDAR
VERSION:2.0
PRODID:-//Columbia International College - ECPv4.6.20.1//NONSGML v1.0//EN
CALSCALE:GREGORIAN
METHOD:PUBLISH
X-WR-CALNAME:Columbia International College
X-ORIGINAL-URL:https://start.cic-totalcare.com
X-WR-CALDESC:Events for Columbia International College
BEGIN:VEVENT
DTSTART;TZID=UTC+0:20251108T190000
DTEND;TZID=UTC+0:20251108T210000
DTSTAMP:20260422T083720
CREATED:20251022T163412Z
LAST-MODIFIED:20251022T163412Z
UID:6994-1762628400-1762635600@start.cic-totalcare.com
SUMMARY:RESIDENCE - MOVIE NIGHT
DESCRIPTION:
URL:https://start.cic-totalcare.com/event/residence-movie-night/
END:VEVENT
END:VCALENDAR