BEGIN:VCALENDAR
VERSION:2.0
PRODID:-//Columbia International College - ECPv4.6.20.1//NONSGML v1.0//EN
CALSCALE:GREGORIAN
METHOD:PUBLISH
X-WR-CALNAME:Columbia International College
X-ORIGINAL-URL:https://start.cic-totalcare.com
X-WR-CALDESC:Events for Columbia International College
BEGIN:VEVENT
DTSTART;TZID=UTC+0:20251005T080000
DTEND;TZID=UTC+0:20251005T170000
DTSTAMP:20260422T101819
CREATED:20250922T191255Z
LAST-MODIFIED:20250922T191255Z
UID:6857-1759651200-1759683600@start.cic-totalcare.com
SUMMARY:RESIDENCE - LETTERS TO THE NEIGHBORS
DESCRIPTION:
URL:https://start.cic-totalcare.com/event/residence-letters-to-the-neighbors/
END:VEVENT
END:VCALENDAR