BEGIN:VCALENDAR
VERSION:2.0
PRODID:-//Columbia International College - ECPv4.6.20.1//NONSGML v1.0//EN
CALSCALE:GREGORIAN
METHOD:PUBLISH
X-WR-CALNAME:Columbia International College
X-ORIGINAL-URL:https://start.cic-totalcare.com
X-WR-CALDESC:Events for Columbia International College
BEGIN:VEVENT
DTSTART;TZID=UTC+0:20251118T190000
DTEND;TZID=UTC+0:20251118T210000
DTSTAMP:20260422T084005
CREATED:20251022T163841Z
LAST-MODIFIED:20251022T163841Z
UID:7016-1763492400-1763499600@start.cic-totalcare.com
SUMMARY:RESIDENCE - INTERNATIONAL MEN'S DAY ACTIVITY
DESCRIPTION:
URL:https://start.cic-totalcare.com/event/residence-international-mens-day-activity/
END:VEVENT
END:VCALENDAR