BEGIN:VCALENDAR
VERSION:2.0
PRODID:-//Columbia International College - ECPv4.6.20.1//NONSGML v1.0//EN
CALSCALE:GREGORIAN
METHOD:PUBLISH
X-WR-CALNAME:Columbia International College
X-ORIGINAL-URL:https://start.cic-totalcare.com
X-WR-CALDESC:Events for Columbia International College
BEGIN:VEVENT
DTSTART;VALUE=DATE:20220808
DTEND;VALUE=DATE:20220810
DTSTAMP:20260421T151701
CREATED:20220718T194018Z
LAST-MODIFIED:20220718T194018Z
UID:2357-1659916800-1660089599@start.cic-totalcare.com
SUMMARY:Professional Development Day
DESCRIPTION:
URL:https://start.cic-totalcare.com/event/professional-development-day/
END:VEVENT
END:VCALENDAR