BEGIN:VCALENDAR
VERSION:2.0
PRODID:-//Columbia International College - ECPv4.6.20.1//NONSGML v1.0//EN
CALSCALE:GREGORIAN
METHOD:PUBLISH
X-WR-CALNAME:Columbia International College
X-ORIGINAL-URL:https://start.cic-totalcare.com
X-WR-CALDESC:Events for Columbia International College
BEGIN:VEVENT
DTSTART;VALUE=DATE:20220819
DTEND;VALUE=DATE:20220820
DTSTAMP:20260422T041904
CREATED:20220815T162331Z
LAST-MODIFIED:20220815T162331Z
UID:2404-1660867200-1660953599@start.cic-totalcare.com
SUMMARY:Cameron Speedway & Amusements -SLD Trip
DESCRIPTION:
URL:https://start.cic-totalcare.com/event/cameron-speedway-amusements-sld-trip/
END:VEVENT
END:VCALENDAR