BEGIN:VCALENDAR
VERSION:2.0
PRODID:-//Columbia International College - ECPv4.6.20.1//NONSGML v1.0//EN
CALSCALE:GREGORIAN
METHOD:PUBLISH
X-WR-CALNAME:Columbia International College
X-ORIGINAL-URL:https://start.cic-totalcare.com
X-WR-CALDESC:Events for Columbia International College
BEGIN:VEVENT
DTSTART;TZID=UTC+0:20251002T160000
DTEND;TZID=UTC+0:20251002T173000
DTSTAMP:20260422T101820
CREATED:20250922T162153Z
LAST-MODIFIED:20250922T173219Z
UID:6793-1759420800-1759426200@start.cic-totalcare.com
SUMMARY:UPO - AUSTRALIAN APPLICATION WORKSHOP & UNIVERSITY OF SYDNEY VISIT
DESCRIPTION:
URL:https://start.cic-totalcare.com/event/australian-application-workshop-university-of-sydney-visit/
END:VEVENT
END:VCALENDAR