BEGIN:VCALENDAR
VERSION:2.0
PRODID:-//Columbia International College - ECPv4.6.20.1//NONSGML v1.0//EN
CALSCALE:GREGORIAN
METHOD:PUBLISH
X-WR-CALNAME:Columbia International College
X-ORIGINAL-URL:https://start.cic-totalcare.com
X-WR-CALDESC:Events for Columbia International College
BEGIN:VEVENT
DTSTART;VALUE=DATE:20220826
DTEND;VALUE=DATE:20220827
DTSTAMP:20260422T083419
CREATED:20220815T162849Z
LAST-MODIFIED:20220815T162849Z
UID:2413-1661472000-1661558399@start.cic-totalcare.com
SUMMARY:Activate Games - SLD trips
DESCRIPTION:
URL:https://start.cic-totalcare.com/event/activate-games-sld-trips/
END:VEVENT
END:VCALENDAR