BEGIN:VCALENDAR
VERSION:2.0
PRODID:-//Columbia International College - ECPv4.6.20.1//NONSGML v1.0//EN
CALSCALE:GREGORIAN
METHOD:PUBLISH
X-WR-CALNAME:Columbia International College
X-ORIGINAL-URL:https://start.cic-totalcare.com
X-WR-CALDESC:Events for Columbia International College
BEGIN:VEVENT
DTSTART;TZID=UTC+0:20211123T200000
DTEND;TZID=UTC+0:20211123T200000
DTSTAMP:20260420T124804
CREATED:20211105T151455Z
LAST-MODIFIED:20211105T151455Z
UID:2282-1637697600-1637697600@start.cic-totalcare.com
SUMMARY:York University Visit
DESCRIPTION:
URL:https://start.cic-totalcare.com/event/york-university-visit/
CATEGORIES:UPO
END:VEVENT
END:VCALENDAR