BEGIN:VCALENDAR
VERSION:2.0
PRODID:-//Columbia International College - ECPv4.6.20.1//NONSGML v1.0//EN
CALSCALE:GREGORIAN
METHOD:PUBLISH
X-WR-CALNAME:Columbia International College
X-ORIGINAL-URL:https://start.cic-totalcare.com
X-WR-CALDESC:Events for Columbia International College
BEGIN:VEVENT
DTSTART;TZID=UTC+0:20260329T080000
DTEND;TZID=UTC+0:20260329T170000
DTSTAMP:20260424T154656
CREATED:20260224T214335Z
LAST-MODIFIED:20260224T214335Z
UID:7647-1774771200-1774803600@start.cic-totalcare.com
SUMMARY:TCP EXCLUSIVE EVENT
DESCRIPTION:
URL:https://start.cic-totalcare.com/event/tcp-exclusive-event-5/
END:VEVENT
BEGIN:VEVENT
DTSTART;TZID=UTC+0:20260329T080000
DTEND;TZID=UTC+0:20260329T170000
DTSTAMP:20260424T154656
CREATED:20260227T154226Z
LAST-MODIFIED:20260227T154226Z
UID:7669-1774771200-1774803600@start.cic-totalcare.com
SUMMARY:UPO - UNIVERSITY OF TORONTO MISSISSAUGA OPEN HOUSE CAMPUS VISIT
DESCRIPTION:
URL:https://start.cic-totalcare.com/event/upo-university-of-toronto-mississauga-open-house-campus-visit/
END:VEVENT
BEGIN:VEVENT
DTSTART;TZID=UTC+0:20260330T043000
DTEND;TZID=UTC+0:20260330T173000
DTSTAMP:20260424T154656
CREATED:20260224T215641Z
LAST-MODIFIED:20260224T215924Z
UID:7659-1774845000-1774891800@start.cic-totalcare.com
SUMMARY:TCP - LEADERSHIP MEETING
DESCRIPTION:
URL:https://start.cic-totalcare.com/event/tcp-leadership-meeting-6/
END:VEVENT
BEGIN:VEVENT
DTSTART;TZID=UTC+0:20260330T190000
DTEND;TZID=UTC+0:20260330T210000
DTSTAMP:20260424T154656
CREATED:20260224T214348Z
LAST-MODIFIED:20260224T214348Z
UID:7649-1774897200-1774904400@start.cic-totalcare.com
SUMMARY:RESIDENCE - OPEN KITCHEN
DESCRIPTION:
URL:https://start.cic-totalcare.com/event/residence-open-kitchen-62/
END:VEVENT
BEGIN:VEVENT
DTSTART;TZID=UTC+0:20260331T080000
DTEND;TZID=UTC+0:20260331T170000
DTSTAMP:20260424T154656
CREATED:20260224T185849Z
LAST-MODIFIED:20260224T185849Z
UID:7586-1774944000-1774976400@start.cic-totalcare.com
SUMMARY:SLD - LITERACY TEST PREP
DESCRIPTION:
URL:https://start.cic-totalcare.com/event/sld-literacy-test-prep-2/
END:VEVENT
BEGIN:VEVENT
DTSTART;TZID=UTC+0:20260331T190000
DTEND;TZID=UTC+0:20260331T210000
DTSTAMP:20260424T154656
CREATED:20260224T214417Z
LAST-MODIFIED:20260224T214417Z
UID:7651-1774983600-1774990800@start.cic-totalcare.com
SUMMARY:RESIDENCE - DIY LIP BALM
DESCRIPTION:
URL:https://start.cic-totalcare.com/event/residence-diy-lip-balm/
END:VEVENT
BEGIN:VEVENT
DTSTART;TZID=UTC+0:20260401T190000
DTEND;TZID=UTC+0:20260401T210000
DTSTAMP:20260424T154656
CREATED:20260330T005412Z
LAST-MODIFIED:20260330T005412Z
UID:7742-1775070000-1775077200@start.cic-totalcare.com
SUMMARY:RESIDENCE - OPEN KITCHEN
DESCRIPTION:
URL:https://start.cic-totalcare.com/event/residence-open-kitchen-63/
END:VEVENT
BEGIN:VEVENT
DTSTART;TZID=UTC+0:20260402T080000
DTEND;TZID=UTC+0:20260402T170000
DTSTAMP:20260424T154656
CREATED:20260330T005433Z
LAST-MODIFIED:20260330T005433Z
UID:7744-1775116800-1775149200@start.cic-totalcare.com
SUMMARY:RESIDENCE - EASTER EGG PAINTING
DESCRIPTION:
URL:https://start.cic-totalcare.com/event/residence-easter-egg-painting/
END:VEVENT
BEGIN:VEVENT
DTSTART;VALUE=DATE:20260403
DTEND;VALUE=DATE:20260407
DTSTAMP:20260424T154656
CREATED:20260327T143937Z
LAST-MODIFIED:20260327T143937Z
UID:7678-1775174400-1775519999@start.cic-totalcare.com
SUMMARY:SLD - QUEBEC TRIP
DESCRIPTION:
URL:https://start.cic-totalcare.com/event/sld-quebec-trip-3/
END:VEVENT
BEGIN:VEVENT
DTSTART;TZID=UTC+0:20260403T080000
DTEND;TZID=UTC+0:20260403T170000
DTSTAMP:20260424T154656
CREATED:20260327T143916Z
LAST-MODIFIED:20260327T143916Z
UID:7675-1775203200-1775235600@start.cic-totalcare.com
SUMMARY:SLD - SPLITSVILLE BOWLING TRIP
DESCRIPTION:
URL:https://start.cic-totalcare.com/event/sld-splitsville-bowling-trip/
END:VEVENT
BEGIN:VEVENT
DTSTART;TZID=UTC+0:20260403T080000
DTEND;TZID=UTC+0:20260403T170000
DTSTAMP:20260424T154656
CREATED:20260327T144737Z
LAST-MODIFIED:20260327T144737Z
UID:7726-1775203200-1775235600@start.cic-totalcare.com
SUMMARY:TCP EXCLUSIVE -  OPEN KITCHEN
DESCRIPTION:
URL:https://start.cic-totalcare.com/event/tcp-exclusive-open-kitchen-30/
END:VEVENT
BEGIN:VEVENT
DTSTART;TZID=UTC+0:20260404T080000
DTEND;TZID=UTC+0:20260404T170000
DTSTAMP:20260424T154656
CREATED:20260327T143958Z
LAST-MODIFIED:20260327T143958Z
UID:7680-1775289600-1775322000@start.cic-totalcare.com
SUMMARY:SLD - PLAYDIUM TRIP
DESCRIPTION:
URL:https://start.cic-totalcare.com/event/sld-playdium-trip/
END:VEVENT
BEGIN:VEVENT
DTSTART;TZID=UTC+0:20260404T080000
DTEND;TZID=UTC+0:20260404T170000
DTSTAMP:20260424T154656
CREATED:20260330T005456Z
LAST-MODIFIED:20260330T005456Z
UID:7746-1775289600-1775322000@start.cic-totalcare.com
SUMMARY:RESIDENCE - EASTER CRAFTS
DESCRIPTION:
URL:https://start.cic-totalcare.com/event/residence-easter-crafts/
END:VEVENT
BEGIN:VEVENT
DTSTART;TZID=UTC+0:20260405T080000
DTEND;TZID=UTC+0:20260405T170000
DTSTAMP:20260424T154656
CREATED:20260327T144701Z
LAST-MODIFIED:20260327T144701Z
UID:7722-1775376000-1775408400@start.cic-totalcare.com
SUMMARY:TCP SELF - CARE SUNDAY EMAIL
DESCRIPTION:
URL:https://start.cic-totalcare.com/event/tcp-self-care-sunday-email-9/
END:VEVENT
BEGIN:VEVENT
DTSTART;TZID=UTC+0:20260405T080000
DTEND;TZID=UTC+0:20260405T170000
DTSTAMP:20260424T154656
CREATED:20260330T005511Z
LAST-MODIFIED:20260330T005511Z
UID:7748-1775376000-1775408400@start.cic-totalcare.com
SUMMARY:RESIDENCE - EASTER EGG HUNT
DESCRIPTION:
URL:https://start.cic-totalcare.com/event/residence-easter-egg-hunt/
END:VEVENT
BEGIN:VEVENT
DTSTART;TZID=UTC+0:20260406T080000
DTEND;TZID=UTC+0:20260406T170000
DTSTAMP:20260424T154656
CREATED:20260327T144018Z
LAST-MODIFIED:20260327T144018Z
UID:7682-1775462400-1775494800@start.cic-totalcare.com
SUMMARY:SLD - MARIO GALAXY
DESCRIPTION:
URL:https://start.cic-totalcare.com/event/sld-mario-galaxy/
END:VEVENT
BEGIN:VEVENT
DTSTART;TZID=UTC+0:20260406T190000
DTEND;TZID=UTC+0:20260406T210000
DTSTAMP:20260424T154656
CREATED:20260330T005540Z
LAST-MODIFIED:20260330T005540Z
UID:7750-1775502000-1775509200@start.cic-totalcare.com
SUMMARY:RESIDENCE - OPEN KITCHEN
DESCRIPTION:
URL:https://start.cic-totalcare.com/event/residence-open-kitchen-64/
END:VEVENT
BEGIN:VEVENT
DTSTART;TZID=UTC+0:20260407T080000
DTEND;TZID=UTC+0:20260407T170000
DTSTAMP:20260424T154656
CREATED:20260330T005601Z
LAST-MODIFIED:20260330T005601Z
UID:7752-1775548800-1775581200@start.cic-totalcare.com
SUMMARY:RESIDENCE - BOARD GAME NIGHT
DESCRIPTION:
URL:https://start.cic-totalcare.com/event/residence-board-game-night/
END:VEVENT
BEGIN:VEVENT
DTSTART;TZID=UTC+0:20260408T080000
DTEND;TZID=UTC+0:20260408T170000
DTSTAMP:20260424T154656
CREATED:20260327T144104Z
LAST-MODIFIED:20260327T144104Z
UID:7684-1775635200-1775667600@start.cic-totalcare.com
SUMMARY:SLD - CRAFT N CHANGE
DESCRIPTION:
URL:https://start.cic-totalcare.com/event/sld-craft-n-change/
END:VEVENT
BEGIN:VEVENT
DTSTART;TZID=UTC+0:20260408T080000
DTEND;TZID=UTC+0:20260408T170000
DTSTAMP:20260424T154656
CREATED:20260327T144127Z
LAST-MODIFIED:20260327T144127Z
UID:7686-1775635200-1775667600@start.cic-totalcare.com
SUMMARY:SLD - CHESS INTRAMURAL
DESCRIPTION:
URL:https://start.cic-totalcare.com/event/sld-chess-intramural/
END:VEVENT
BEGIN:VEVENT
DTSTART;TZID=UTC+0:20260408T080000
DTEND;TZID=UTC+0:20260408T170000
DTSTAMP:20260424T154656
CREATED:20260327T144146Z
LAST-MODIFIED:20260327T144146Z
UID:7688-1775635200-1775667600@start.cic-totalcare.com
SUMMARY:SLD - MISSION SERVICES
DESCRIPTION:
URL:https://start.cic-totalcare.com/event/sld-mission-services-23/
END:VEVENT
BEGIN:VEVENT
DTSTART;TZID=UTC+0:20260408T190000
DTEND;TZID=UTC+0:20260408T210000
DTSTAMP:20260424T154656
CREATED:20260330T005625Z
LAST-MODIFIED:20260330T005625Z
UID:7754-1775674800-1775682000@start.cic-totalcare.com
SUMMARY:RESIDENCE - OPEN KITCHEN
DESCRIPTION:
URL:https://start.cic-totalcare.com/event/residence-open-kitchen-65/
END:VEVENT
BEGIN:VEVENT
DTSTART;TZID=UTC+0:20260409T080000
DTEND;TZID=UTC+0:20260409T170000
DTSTAMP:20260424T154656
CREATED:20260327T144159Z
LAST-MODIFIED:20260327T144159Z
UID:7690-1775721600-1775754000@start.cic-totalcare.com
SUMMARY:SLD - TALENT SHOW
DESCRIPTION:
URL:https://start.cic-totalcare.com/event/sld-talent-show-3/
END:VEVENT
BEGIN:VEVENT
DTSTART;TZID=UTC+0:20260409T080000
DTEND;TZID=UTC+0:20260409T170000
DTSTAMP:20260424T154656
CREATED:20260330T005653Z
LAST-MODIFIED:20260330T005653Z
UID:7756-1775721600-1775754000@start.cic-totalcare.com
SUMMARY:RESIDENCE - CONVO CAFE: FAIRNESS
DESCRIPTION:
URL:https://start.cic-totalcare.com/event/residence-convo-cafe-fairness/
END:VEVENT
BEGIN:VEVENT
DTSTART;TZID=UTC+0:20260410T080000
DTEND;TZID=UTC+0:20260410T170000
DTSTAMP:20260424T154656
CREATED:20260327T144819Z
LAST-MODIFIED:20260327T144819Z
UID:7732-1775808000-1775840400@start.cic-totalcare.com
SUMMARY:TCP - MOVIE AND GAME NIGHT
DESCRIPTION:
URL:https://start.cic-totalcare.com/event/tcp-movie-and-game-night/
END:VEVENT
BEGIN:VEVENT
DTSTART;TZID=UTC+0:20260410T080000
DTEND;TZID=UTC+0:20260410T170000
DTSTAMP:20260424T154656
CREATED:20260330T005005Z
LAST-MODIFIED:20260330T005005Z
UID:7736-1775808000-1775840400@start.cic-totalcare.com
SUMMARY:UPO - CIC @ MCMASTER DAY
DESCRIPTION:
URL:https://start.cic-totalcare.com/event/upo-cic-mcmaster-day/
END:VEVENT
BEGIN:VEVENT
DTSTART;TZID=UTC+0:20260411T080000
DTEND;TZID=UTC+0:20260411T170000
DTSTAMP:20260424T154656
CREATED:20260327T144216Z
LAST-MODIFIED:20260327T144216Z
UID:7692-1775894400-1775926800@start.cic-totalcare.com
SUMMARY:SLD - BLUE JAYS GAME
DESCRIPTION:
URL:https://start.cic-totalcare.com/event/sld-blue-jays-game-2/
END:VEVENT
BEGIN:VEVENT
DTSTART;TZID=UTC+0:20260411T080000
DTEND;TZID=UTC+0:20260411T170000
DTSTAMP:20260424T154656
CREATED:20260327T144232Z
LAST-MODIFIED:20260327T144232Z
UID:7694-1775894400-1775926800@start.cic-totalcare.com
SUMMARY:SLD - FIRST ROBOTICS COMPETITION
DESCRIPTION:
URL:https://start.cic-totalcare.com/event/sld-first-robotics-competition/
END:VEVENT
BEGIN:VEVENT
DTSTART;TZID=UTC+0:20260411T080000
DTEND;TZID=UTC+0:20260411T170000
DTSTAMP:20260424T154656
CREATED:20260330T005716Z
LAST-MODIFIED:20260330T005716Z
UID:7758-1775894400-1775926800@start.cic-totalcare.com
SUMMARY:RESIDENCE - BIRD HOUSE PAINTING
DESCRIPTION:
URL:https://start.cic-totalcare.com/event/residence-bird-house-painting/
END:VEVENT
BEGIN:VEVENT
DTSTART;TZID=UTC+0:20260412T080000
DTEND;TZID=UTC+0:20260412T170000
DTSTAMP:20260424T154656
CREATED:20260327T144304Z
LAST-MODIFIED:20260327T144304Z
UID:7696-1775980800-1776013200@start.cic-totalcare.com
SUMMARY:SLD - AROUND THE BAY RACE
DESCRIPTION:
URL:https://start.cic-totalcare.com/event/sld-around-the-bay-race/
END:VEVENT
BEGIN:VEVENT
DTSTART;TZID=UTC+0:20260412T080000
DTEND;TZID=UTC+0:20260412T170000
DTSTAMP:20260424T154656
CREATED:20260327T144313Z
LAST-MODIFIED:20260327T144313Z
UID:7698-1775980800-1776013200@start.cic-totalcare.com
SUMMARY:SLD - FIRST ROBOTICS COMPETITION
DESCRIPTION:
URL:https://start.cic-totalcare.com/event/sld-first-robotics-competition-2/
END:VEVENT
BEGIN:VEVENT
DTSTART;TZID=UTC+0:20260412T080000
DTEND;TZID=UTC+0:20260412T170000
DTSTAMP:20260424T154656
CREATED:20260330T005734Z
LAST-MODIFIED:20260330T005734Z
UID:7760-1775980800-1776013200@start.cic-totalcare.com
SUMMARY:RESIDENCE - DIY PAPER MAKING
DESCRIPTION:
URL:https://start.cic-totalcare.com/event/residence-diy-paper-making/
END:VEVENT
BEGIN:VEVENT
DTSTART;TZID=UTC+0:20260413T080000
DTEND;TZID=UTC+0:20260413T170000
DTSTAMP:20260424T154656
CREATED:20260327T144329Z
LAST-MODIFIED:20260327T144329Z
UID:7700-1776067200-1776099600@start.cic-totalcare.com
SUMMARY:SLD - TECHTO
DESCRIPTION:
URL:https://start.cic-totalcare.com/event/sld-techto-2/
END:VEVENT
BEGIN:VEVENT
DTSTART;TZID=UTC+0:20260413T080000
DTEND;TZID=UTC+0:20260413T170000
DTSTAMP:20260424T154656
CREATED:20260327T144713Z
LAST-MODIFIED:20260327T144713Z
UID:7724-1776067200-1776099600@start.cic-totalcare.com
SUMMARY:TCP LEADERSHIP MEETING
DESCRIPTION:
URL:https://start.cic-totalcare.com/event/tcp-leadership-meeting-7/
END:VEVENT
BEGIN:VEVENT
DTSTART;TZID=UTC+0:20260413T190000
DTEND;TZID=UTC+0:20260413T210000
DTSTAMP:20260424T154656
CREATED:20260330T005924Z
LAST-MODIFIED:20260330T005924Z
UID:7762-1776106800-1776114000@start.cic-totalcare.com
SUMMARY:RESIDENCE - OPEN KITCHEN
DESCRIPTION:
URL:https://start.cic-totalcare.com/event/residence-open-kitchen-66/
END:VEVENT
BEGIN:VEVENT
DTSTART;TZID=UTC+0:20260414T080000
DTEND;TZID=UTC+0:20260414T170000
DTSTAMP:20260424T154656
CREATED:20260327T144346Z
LAST-MODIFIED:20260327T144346Z
UID:7702-1776153600-1776186000@start.cic-totalcare.com
SUMMARY:LITERACY TEST
DESCRIPTION:
URL:https://start.cic-totalcare.com/event/literacy-test-4/
END:VEVENT
BEGIN:VEVENT
DTSTART;TZID=UTC+0:20260414T080000
DTEND;TZID=UTC+0:20260414T170000
DTSTAMP:20260424T154656
CREATED:20260330T005950Z
LAST-MODIFIED:20260330T005950Z
UID:7764-1776153600-1776186000@start.cic-totalcare.com
SUMMARY:RESIDENCE - LEMONADE GUIDED RECIPE
DESCRIPTION:
URL:https://start.cic-totalcare.com/event/residence-lemonade-guided-recipe/
END:VEVENT
BEGIN:VEVENT
DTSTART;TZID=UTC+0:20260415T080000
DTEND;TZID=UTC+0:20260415T170000
DTSTAMP:20260424T154656
CREATED:20260327T144404Z
LAST-MODIFIED:20260327T144404Z
UID:7704-1776240000-1776272400@start.cic-totalcare.com
SUMMARY:SLD - CHESS INTRAMURAL
DESCRIPTION:
URL:https://start.cic-totalcare.com/event/sld-chess-intramural-2/
END:VEVENT
BEGIN:VEVENT
DTSTART;TZID=UTC+0:20260415T080000
DTEND;TZID=UTC+0:20260415T170000
DTSTAMP:20260424T154656
CREATED:20260327T144425Z
LAST-MODIFIED:20260327T144425Z
UID:7706-1776240000-1776272400@start.cic-totalcare.com
SUMMARY:SLD - CRAFR AND CURE
DESCRIPTION:
URL:https://start.cic-totalcare.com/event/sld-crafr-and-cure/
END:VEVENT
BEGIN:VEVENT
DTSTART;TZID=UTC+0:20260415T190000
DTEND;TZID=UTC+0:20260415T210000
DTSTAMP:20260424T154656
CREATED:20260330T010012Z
LAST-MODIFIED:20260330T010012Z
UID:7766-1776279600-1776286800@start.cic-totalcare.com
SUMMARY:RESIDENCE - OPEN KITCHEN
DESCRIPTION:
URL:https://start.cic-totalcare.com/event/residence-open-kitchen-67/
END:VEVENT
BEGIN:VEVENT
DTSTART;TZID=UTC+0:20260416T003000
DTEND;TZID=UTC+0:20260416T133000
DTSTAMP:20260424T154656
CREATED:20260330T005047Z
LAST-MODIFIED:20260330T005047Z
UID:7738-1776299400-1776346200@start.cic-totalcare.com
SUMMARY:UPO - TEMPLE UNIVERSITY VISIT
DESCRIPTION:
URL:https://start.cic-totalcare.com/event/upo-temple-university-visit/
END:VEVENT
BEGIN:VEVENT
DTSTART;TZID=UTC+0:20260416T080000
DTEND;TZID=UTC+0:20260416T170000
DTSTAMP:20260424T154656
CREATED:20260330T010131Z
LAST-MODIFIED:20260330T171817Z
UID:7768-1776326400-1776358800@start.cic-totalcare.com
SUMMARY:RESIDENCE - JEWELRY MAKING
DESCRIPTION:
URL:https://start.cic-totalcare.com/event/residence-jewelry-making/
END:VEVENT
BEGIN:VEVENT
DTSTART;VALUE=DATE:20260417
DTEND;VALUE=DATE:20260419
DTSTAMP:20260424T154656
CREATED:20260327T144449Z
LAST-MODIFIED:20260327T144449Z
UID:7708-1776384000-1776556799@start.cic-totalcare.com
SUMMARY:SLD - 30 HOUR FAMINE
DESCRIPTION:
URL:https://start.cic-totalcare.com/event/sld-30-hour-famine-2/
END:VEVENT
BEGIN:VEVENT
DTSTART;VALUE=DATE:20260417
DTEND;VALUE=DATE:20260520
DTSTAMP:20260424T154656
CREATED:20260327T144505Z
LAST-MODIFIED:20260327T144505Z
UID:7710-1776384000-1779235199@start.cic-totalcare.com
SUMMARY:SLD - FIRST ROBOTICS COMPETITION
DESCRIPTION:
URL:https://start.cic-totalcare.com/event/sld-first-robotics-competition-3/
END:VEVENT
BEGIN:VEVENT
DTSTART;TZID=UTC+0:20260417T080000
DTEND;TZID=UTC+0:20260417T170000
DTSTAMP:20260424T154656
CREATED:20260327T144748Z
LAST-MODIFIED:20260327T144748Z
UID:7728-1776412800-1776445200@start.cic-totalcare.com
SUMMARY:TCP EXCLUSIVE -  OPEN KITCHEN
DESCRIPTION:
URL:https://start.cic-totalcare.com/event/tcp-exclusive-open-kitchen-31/
END:VEVENT
BEGIN:VEVENT
DTSTART;TZID=UTC+0:20260418T080000
DTEND;TZID=UTC+0:20260418T170000
DTSTAMP:20260424T154656
CREATED:20260330T010152Z
LAST-MODIFIED:20260330T010152Z
UID:7770-1776499200-1776531600@start.cic-totalcare.com
SUMMARY:RESIDENCE - MOVIE NIGHT
DESCRIPTION:
URL:https://start.cic-totalcare.com/event/residence-movie-night-3/
END:VEVENT
BEGIN:VEVENT
DTSTART;TZID=UTC+0:20260419T080000
DTEND;TZID=UTC+0:20260419T170000
DTSTAMP:20260424T154656
CREATED:20260327T144530Z
LAST-MODIFIED:20260327T144530Z
UID:7712-1776585600-1776618000@start.cic-totalcare.com
SUMMARY:SLD - INDOOR KARTING
DESCRIPTION:
URL:https://start.cic-totalcare.com/event/sld-indoor-karting/
END:VEVENT
BEGIN:VEVENT
DTSTART;TZID=UTC+0:20260419T080000
DTEND;TZID=UTC+0:20260419T170000
DTSTAMP:20260424T154656
CREATED:20260330T010219Z
LAST-MODIFIED:20260330T010219Z
UID:7772-1776585600-1776618000@start.cic-totalcare.com
SUMMARY:RESIDENCE - COMMUNITY SERVICE: EARTH DAY
DESCRIPTION:
URL:https://start.cic-totalcare.com/event/residence-community-service-earth-day/
END:VEVENT
BEGIN:VEVENT
DTSTART;TZID=UTC+0:20260420T190000
DTEND;TZID=UTC+0:20260420T210000
DTSTAMP:20260424T154656
CREATED:20260330T010237Z
LAST-MODIFIED:20260330T010237Z
UID:7774-1776711600-1776718800@start.cic-totalcare.com
SUMMARY:RESIDENCE - OPEN KITCHEN
DESCRIPTION:
URL:https://start.cic-totalcare.com/event/residence-open-kitchen-68/
END:VEVENT
BEGIN:VEVENT
DTSTART;TZID=UTC+0:20260421T080000
DTEND;TZID=UTC+0:20260421T170000
DTSTAMP:20260424T154656
CREATED:20260327T144550Z
LAST-MODIFIED:20260327T144550Z
UID:7714-1776758400-1776790800@start.cic-totalcare.com
SUMMARY:SLD - ALUMNI BASKETBALL GAME
DESCRIPTION:
URL:https://start.cic-totalcare.com/event/sld-alumni-basketball-game/
END:VEVENT
BEGIN:VEVENT
DTSTART;TZID=UTC+0:20260421T080000
DTEND;TZID=UTC+0:20260421T170000
DTSTAMP:20260424T154656
CREATED:20260330T010254Z
LAST-MODIFIED:20260330T010254Z
UID:7776-1776758400-1776790800@start.cic-totalcare.com
SUMMARY:RESIDENCE - KNITTING
DESCRIPTION:
URL:https://start.cic-totalcare.com/event/residence-knitting-3/
END:VEVENT
BEGIN:VEVENT
DTSTART;TZID=UTC+0:20260421T160000
DTEND;TZID=UTC+0:20260421T170000
DTSTAMP:20260424T154656
CREATED:20260330T005124Z
LAST-MODIFIED:20260330T005124Z
UID:7740-1776787200-1776790800@start.cic-totalcare.com
SUMMARY:UPO - UNIVERSITY OF BRITISH COLUMBIA VISIT
DESCRIPTION:
URL:https://start.cic-totalcare.com/event/upo-university-of-british-columbia-visit/
END:VEVENT
BEGIN:VEVENT
DTSTART;TZID=UTC+0:20260422T080000
DTEND;TZID=UTC+0:20260422T170000
DTSTAMP:20260424T154656
CREATED:20260327T144601Z
LAST-MODIFIED:20260327T144601Z
UID:7716-1776844800-1776877200@start.cic-totalcare.com
SUMMARY:SLD - MISSION SERVICES
DESCRIPTION:
URL:https://start.cic-totalcare.com/event/sld-mission-services-24/
END:VEVENT
BEGIN:VEVENT
DTSTART;TZID=UTC+0:20260422T190000
DTEND;TZID=UTC+0:20260422T210000
DTSTAMP:20260424T154656
CREATED:20260330T010315Z
LAST-MODIFIED:20260330T010315Z
UID:7778-1776884400-1776891600@start.cic-totalcare.com
SUMMARY:RESIDENCE - OPEN KITCHEN
DESCRIPTION:
URL:https://start.cic-totalcare.com/event/residence-open-kitchen-69/
END:VEVENT
BEGIN:VEVENT
DTSTART;TZID=UTC+0:20260423T080000
DTEND;TZID=UTC+0:20260423T170000
DTSTAMP:20260424T154656
CREATED:20260330T010337Z
LAST-MODIFIED:20260330T010337Z
UID:7780-1776931200-1776963600@start.cic-totalcare.com
SUMMARY:RESIDENCE - COLOUR & CHILL
DESCRIPTION:
URL:https://start.cic-totalcare.com/event/residence-colour-chill/
END:VEVENT
BEGIN:VEVENT
DTSTART;TZID=UTC+0:20260424T080000
DTEND;TZID=UTC+0:20260424T170000
DTSTAMP:20260424T154656
CREATED:20260327T144614Z
LAST-MODIFIED:20260327T144614Z
UID:7718-1777017600-1777050000@start.cic-totalcare.com
SUMMARY:PROM DAY
DESCRIPTION:
URL:https://start.cic-totalcare.com/event/prom-day/
END:VEVENT
BEGIN:VEVENT
DTSTART;TZID=UTC+0:20260424T080000
DTEND;TZID=UTC+0:20260424T170000
DTSTAMP:20260424T154656
CREATED:20260327T144755Z
LAST-MODIFIED:20260327T144755Z
UID:7730-1777017600-1777050000@start.cic-totalcare.com
SUMMARY:TCP EXCLUSIVE -  OPEN KITCHEN
DESCRIPTION:
URL:https://start.cic-totalcare.com/event/tcp-exclusive-open-kitchen-32/
END:VEVENT
BEGIN:VEVENT
DTSTART;TZID=UTC+0:20260425T080000
DTEND;TZID=UTC+0:20260425T170000
DTSTAMP:20260424T154656
CREATED:20260330T010402Z
LAST-MODIFIED:20260330T010402Z
UID:7782-1777104000-1777136400@start.cic-totalcare.com
SUMMARY:RESIDENCE - BASKETBALL COMPETITION
DESCRIPTION:
URL:https://start.cic-totalcare.com/event/residence-basketball-competition/
END:VEVENT
BEGIN:VEVENT
DTSTART;VALUE=DATE:20260427
DTEND;VALUE=DATE:20260501
DTSTAMP:20260424T154656
CREATED:20260327T144636Z
LAST-MODIFIED:20260327T144636Z
UID:7720-1777248000-1777593599@start.cic-totalcare.com
SUMMARY:FOCUS WEEK
DESCRIPTION:
URL:https://start.cic-totalcare.com/event/focus-week/
END:VEVENT
BEGIN:VEVENT
DTSTART;TZID=UTC+0:20260501T160000
DTEND;TZID=UTC+0:20260501T170000
DTSTAMP:20260424T154656
CREATED:20260424T135003Z
LAST-MODIFIED:20260424T135003Z
UID:7790-1777651200-1777654800@start.cic-totalcare.com
SUMMARY:SLD - STUDENT LIFE\, LEADERSHIP\, ATHLETIC AWARD CEREMONY
DESCRIPTION:
URL:https://start.cic-totalcare.com/event/sld-student-life-leadership-athletic-award-ceremony/
END:VEVENT
END:VCALENDAR