BEGIN:VCALENDAR
VERSION:2.0
PRODID:-//Columbia International College - ECPv4.6.20.1//NONSGML v1.0//EN
CALSCALE:GREGORIAN
METHOD:PUBLISH
X-WR-CALNAME:Columbia International College
X-ORIGINAL-URL:https://start.cic-totalcare.com
X-WR-CALDESC:Events for Columbia International College
BEGIN:VEVENT
DTSTART;TZID=UTC+0:20251117T080000
DTEND;TZID=UTC+0:20251117T170000
DTSTAMP:20260422T083501
CREATED:20251022T162647Z
LAST-MODIFIED:20251022T162647Z
UID:6966-1763366400-1763398800@start.cic-totalcare.com
SUMMARY:SLD - TALENT SHOW
DESCRIPTION:
URL:https://start.cic-totalcare.com/event/sld-talent-show-2/
END:VEVENT
BEGIN:VEVENT
DTSTART;TZID=UTC+0:20251117T160000
DTEND;TZID=UTC+0:20251117T170000
DTSTAMP:20260422T083501
CREATED:20251022T164950Z
LAST-MODIFIED:20251022T164950Z
UID:7057-1763395200-1763398800@start.cic-totalcare.com
SUMMARY:UPO - OUAC WORKSHOP
DESCRIPTION:
URL:https://start.cic-totalcare.com/event/upo-ouac-workshop-6/
END:VEVENT
BEGIN:VEVENT
DTSTART;TZID=UTC+0:20251117T190000
DTEND;TZID=UTC+0:20251117T210000
DTSTAMP:20260422T083501
CREATED:20251022T163812Z
LAST-MODIFIED:20251022T163812Z
UID:7014-1763406000-1763413200@start.cic-totalcare.com
SUMMARY:RESIDENCE - OPEN KITCHEN
DESCRIPTION:
URL:https://start.cic-totalcare.com/event/residence-open-kitchen-31/
END:VEVENT
END:VCALENDAR