BEGIN:VCALENDAR
VERSION:2.0
PRODID:-//Columbia International College - ECPv4.6.20.1//NONSGML v1.0//EN
CALSCALE:GREGORIAN
METHOD:PUBLISH
X-WR-CALNAME:Columbia International College
X-ORIGINAL-URL:https://start.cic-totalcare.com
X-WR-CALDESC:Events for Columbia International College
BEGIN:VEVENT
DTSTART;TZID=UTC+0:20251111T190000
DTEND;TZID=UTC+0:20251111T210000
DTSTAMP:20260422T083646
CREATED:20251022T163528Z
LAST-MODIFIED:20251022T163528Z
UID:7000-1762887600-1762894800@start.cic-totalcare.com
SUMMARY:RESIDENCE - POETRY NIGHT
DESCRIPTION:
URL:https://start.cic-totalcare.com/event/residence-poetry-night/
END:VEVENT
END:VCALENDAR