BEGIN:VCALENDAR
VERSION:2.0
PRODID:-//Columbia International College - ECPv4.6.20.1//NONSGML v1.0//EN
CALSCALE:GREGORIAN
METHOD:PUBLISH
X-WR-CALNAME:Columbia International College
X-ORIGINAL-URL:https://start.cic-totalcare.com
X-WR-CALDESC:Events for Columbia International College
BEGIN:VEVENT
DTSTART;TZID=UTC+0:20251104T080000
DTEND;TZID=UTC+0:20251104T170000
DTSTAMP:20260422T083537
CREATED:20251022T161957Z
LAST-MODIFIED:20251022T161957Z
UID:6941-1762243200-1762275600@start.cic-totalcare.com
SUMMARY:SLD - LITERACY TEST PREP
DESCRIPTION:
URL:https://start.cic-totalcare.com/event/sld-literacy-test-prep/
END:VEVENT
BEGIN:VEVENT
DTSTART;TZID=UTC+0:20251104T080000
DTEND;TZID=UTC+0:20251104T170000
DTSTAMP:20260422T083537
CREATED:20251022T162055Z
LAST-MODIFIED:20251022T184000Z
UID:6946-1762243200-1762275600@start.cic-totalcare.com
SUMMARY:TCP Event - Playdium
DESCRIPTION:
URL:https://start.cic-totalcare.com/event/total-care-event-5/
END:VEVENT
BEGIN:VEVENT
DTSTART;TZID=UTC+0:20251104T080000
DTEND;TZID=UTC+0:20251104T170000
DTSTAMP:20260422T083537
CREATED:20251022T163211Z
LAST-MODIFIED:20251022T163211Z
UID:6986-1762243200-1762275600@start.cic-totalcare.com
SUMMARY:RESIDENCE - VISIT WITH SISTERS
DESCRIPTION:
URL:https://start.cic-totalcare.com/event/residence-visit-with-sisters/
END:VEVENT
END:VCALENDAR