BEGIN:VCALENDAR
VERSION:2.0
PRODID:-//Columbia International College - ECPv4.6.20.1//NONSGML v1.0//EN
CALSCALE:GREGORIAN
METHOD:PUBLISH
X-WR-CALNAME:Columbia International College
X-ORIGINAL-URL:https://start.cic-totalcare.com
X-WR-CALDESC:Events for Columbia International College
BEGIN:VEVENT
DTSTART;TZID=UTC+0:20251101T080000
DTEND;TZID=UTC+0:20251101T170000
DTSTAMP:20260422T091820
CREATED:20251022T161338Z
LAST-MODIFIED:20251022T161338Z
UID:6931-1761984000-1762016400@start.cic-totalcare.com
SUMMARY:SLD - ROAD TO HOPE MARATHON
DESCRIPTION:
URL:https://start.cic-totalcare.com/event/sld-road-to-hope-marathon/
END:VEVENT
BEGIN:VEVENT
DTSTART;TZID=UTC+0:20251101T080000
DTEND;TZID=UTC+0:20251101T170000
DTSTAMP:20260422T091820
CREATED:20251022T161400Z
LAST-MODIFIED:20251022T161400Z
UID:6933-1761984000-1762016400@start.cic-totalcare.com
SUMMARY:SLD - ROBOTICS COMPETITION
DESCRIPTION:
URL:https://start.cic-totalcare.com/event/sld-robotics-competition/
END:VEVENT
BEGIN:VEVENT
DTSTART;TZID=UTC+0:20251101T080000
DTEND;TZID=UTC+0:20251101T170000
DTSTAMP:20260422T091820
CREATED:20251022T161830Z
LAST-MODIFIED:20251022T161830Z
UID:6935-1761984000-1762016400@start.cic-totalcare.com
SUMMARY:SLD - SQUAREONE PROM SHOPPING
DESCRIPTION:
URL:https://start.cic-totalcare.com/event/sld-squareone-prom-shopping/
END:VEVENT
BEGIN:VEVENT
DTSTART;TZID=UTC+0:20251101T190000
DTEND;TZID=UTC+0:20251101T210000
DTSTAMP:20260422T091820
CREATED:20251022T163052Z
LAST-MODIFIED:20251022T163052Z
UID:6980-1762023600-1762030800@start.cic-totalcare.com
SUMMARY:RESIDENCE - ART NIGHT
DESCRIPTION:
URL:https://start.cic-totalcare.com/event/residence-art-night-4/
END:VEVENT
END:VCALENDAR