BEGIN:VCALENDAR
VERSION:2.0
PRODID:-//Columbia International College - ECPv4.6.20.1//NONSGML v1.0//EN
CALSCALE:GREGORIAN
METHOD:PUBLISH
X-WR-CALNAME:Columbia International College
X-ORIGINAL-URL:https://start.cic-totalcare.com
X-WR-CALDESC:Events for Columbia International College
BEGIN:VEVENT
DTSTART;TZID=UTC+0:20251031T080000
DTEND;TZID=UTC+0:20251031T170000
DTSTAMP:20260422T083543
CREATED:20250919T203224Z
LAST-MODIFIED:20250919T203224Z
UID:6765-1761897600-1761930000@start.cic-totalcare.com
SUMMARY:SLD - PUMKIN CARVING CONTEST
DESCRIPTION:
URL:https://start.cic-totalcare.com/event/sld-pumkin-carving-contest/
END:VEVENT
BEGIN:VEVENT
DTSTART;TZID=UTC+0:20251031T080000
DTEND;TZID=UTC+0:20251031T170000
DTSTAMP:20260422T083543
CREATED:20250919T203244Z
LAST-MODIFIED:20250919T203244Z
UID:6767-1761897600-1761930000@start.cic-totalcare.com
SUMMARY:SLD - COSTUME CONTEST
DESCRIPTION:
URL:https://start.cic-totalcare.com/event/sld-costume-contest/
END:VEVENT
BEGIN:VEVENT
DTSTART;TZID=UTC+0:20251031T113000
DTEND;TZID=UTC+0:20251031T123000
DTSTAMP:20260422T083543
CREATED:20250922T172350Z
LAST-MODIFIED:20250922T200759Z
UID:6840-1761910200-1761913800@start.cic-totalcare.com
SUMMARY:UPO - UNIVERSITY OF CALGARY VISIT
DESCRIPTION:
URL:https://start.cic-totalcare.com/event/upo-university-of-calgary-visit-2/
END:VEVENT
BEGIN:VEVENT
DTSTART;TZID=UTC+0:20251031T190000
DTEND;TZID=UTC+0:20251031T210000
DTSTAMP:20260422T083543
CREATED:20250922T130504Z
LAST-MODIFIED:20250922T130504Z
UID:6781-1761937200-1761944400@start.cic-totalcare.com
SUMMARY:TCP EXCLUSIVE - OPEN KITCHEN
DESCRIPTION:
URL:https://start.cic-totalcare.com/event/tcp-exclusive-open-kitchen-11/
END:VEVENT
END:VCALENDAR