BEGIN:VCALENDAR
VERSION:2.0
PRODID:-//Columbia International College - ECPv4.6.20.1//NONSGML v1.0//EN
CALSCALE:GREGORIAN
METHOD:PUBLISH
X-WR-CALNAME:Columbia International College
X-ORIGINAL-URL:https://start.cic-totalcare.com
X-WR-CALDESC:Events for Columbia International College
BEGIN:VEVENT
DTSTART;TZID=UTC+0:20251029T080000
DTEND;TZID=UTC+0:20251029T170000
DTSTAMP:20260422T083535
CREATED:20250919T203107Z
LAST-MODIFIED:20250919T203107Z
UID:6759-1761724800-1761757200@start.cic-totalcare.com
SUMMARY:SLD - INTRAMURAL SOCCER
DESCRIPTION:
URL:https://start.cic-totalcare.com/event/sld-intramural-soccer-15/
END:VEVENT
BEGIN:VEVENT
DTSTART;TZID=UTC+0:20251029T080000
DTEND;TZID=UTC+0:20251029T170000
DTSTAMP:20260422T083535
CREATED:20250919T203134Z
LAST-MODIFIED:20250919T203134Z
UID:6761-1761724800-1761757200@start.cic-totalcare.com
SUMMARY:SLD - MISSION SERVICES
DESCRIPTION:
URL:https://start.cic-totalcare.com/event/sld-mission-services-14/
END:VEVENT
BEGIN:VEVENT
DTSTART;TZID=UTC+0:20251029T160000
DTEND;TZID=UTC+0:20251029T170000
DTSTAMP:20260422T083535
CREATED:20250922T172115Z
LAST-MODIFIED:20250922T172115Z
UID:6834-1761753600-1761757200@start.cic-totalcare.com
SUMMARY:UPO - UK PERSONAL STATEMENT WORKSHOP
DESCRIPTION:
URL:https://start.cic-totalcare.com/event/upo-uk-personal-statement-workshop-2/
END:VEVENT
BEGIN:VEVENT
DTSTART;TZID=UTC+0:20251029T190000
DTEND;TZID=UTC+0:20251029T210000
DTSTAMP:20260422T083535
CREATED:20250922T194300Z
LAST-MODIFIED:20250922T194300Z
UID:6898-1761764400-1761771600@start.cic-totalcare.com
SUMMARY:RESIDENCE - OPEN KITCHEN
DESCRIPTION:
URL:https://start.cic-totalcare.com/event/residence-open-kitchen-25/
END:VEVENT
END:VCALENDAR