BEGIN:VCALENDAR
VERSION:2.0
PRODID:-//Columbia International College - ECPv4.6.20.1//NONSGML v1.0//EN
CALSCALE:GREGORIAN
METHOD:PUBLISH
X-WR-CALNAME:Columbia International College
X-ORIGINAL-URL:https://start.cic-totalcare.com
X-WR-CALDESC:Events for Columbia International College
BEGIN:VEVENT
DTSTART;VALUE=DATE:20241117
DTEND;VALUE=DATE:20241125
DTSTAMP:20260422T100034
CREATED:20241025T181611Z
LAST-MODIFIED:20241025T181611Z
UID:5681-1731801600-1732492799@start.cic-totalcare.com
SUMMARY:SLD - HOSA CONFERENCE
DESCRIPTION: \n
URL:https://start.cic-totalcare.com/event/sld-hosa-conference/
END:VEVENT
BEGIN:VEVENT
DTSTART;VALUE=DATE:20241118
DTEND;VALUE=DATE:20241119
DTSTAMP:20260422T100034
CREATED:20241025T181650Z
LAST-MODIFIED:20241111T165753Z
UID:5683-1731888000-1731974399@start.cic-totalcare.com
SUMMARY:SLD - CIC TALENT SHOW
DESCRIPTION: \n
URL:https://start.cic-totalcare.com/event/sld-cic-talent-show/
END:VEVENT
BEGIN:VEVENT
DTSTART;TZID=UTC+0:20241118T160000
DTEND;TZID=UTC+0:20241118T170000
DTSTAMP:20260422T100034
CREATED:20241024T202043Z
LAST-MODIFIED:20241024T202043Z
UID:5608-1731945600-1731949200@start.cic-totalcare.com
SUMMARY:UPO – OUAC WORKSHOP
DESCRIPTION:
URL:https://start.cic-totalcare.com/event/upo-ouac-workshop-2/
END:VEVENT
END:VCALENDAR