BEGIN:VCALENDAR
VERSION:2.0
PRODID:-//Columbia International College - ECPv4.6.20.1//NONSGML v1.0//EN
CALSCALE:GREGORIAN
METHOD:PUBLISH
X-WR-CALNAME:Columbia International College
X-ORIGINAL-URL:https://start.cic-totalcare.com
X-WR-CALDESC:Events for Columbia International College
BEGIN:VEVENT
DTSTART;VALUE=DATE:20240526
DTEND;VALUE=DATE:20240527
DTSTAMP:20260421T152455
CREATED:20240423T150957Z
LAST-MODIFIED:20240423T150957Z
UID:5135-1716681600-1716767999@start.cic-totalcare.com
SUMMARY:Cystic Fibrosis Walk
DESCRIPTION:
URL:https://start.cic-totalcare.com/event/cystic-fibrosis-walk/
CATEGORIES:SLD
END:VEVENT
BEGIN:VEVENT
DTSTART;VALUE=DATE:20240526
DTEND;VALUE=DATE:20240527
DTSTAMP:20260421T152455
CREATED:20240426T185607Z
LAST-MODIFIED:20240426T185607Z
UID:5189-1716681600-1716767999@start.cic-totalcare.com
SUMMARY:Paint Night
DESCRIPTION:
URL:https://start.cic-totalcare.com/event/paint-night-7/
CATEGORIES:Residence
END:VEVENT
END:VCALENDAR