BEGIN:VCALENDAR
VERSION:2.0
PRODID:-//Columbia International College - ECPv4.6.20.1//NONSGML v1.0//EN
CALSCALE:GREGORIAN
METHOD:PUBLISH
X-WR-CALNAME:Columbia International College
X-ORIGINAL-URL:https://start.cic-totalcare.com
X-WR-CALDESC:Events for Columbia International College
BEGIN:VEVENT
DTSTART;VALUE=DATE:20240420
DTEND;VALUE=DATE:20240421
DTSTAMP:20260421T185427
CREATED:20240326T182321Z
LAST-MODIFIED:20240326T182321Z
UID:5050-1713571200-1713657599@start.cic-totalcare.com
SUMMARY:Nature Walk
DESCRIPTION:
URL:https://start.cic-totalcare.com/event/nature-walk-2/
CATEGORIES:Residence
END:VEVENT
BEGIN:VEVENT
DTSTART;TZID=UTC+0:20240420T080000
DTEND;TZID=UTC+0:20240430T170000
DTSTAMP:20260421T185427
CREATED:20240320T185844Z
LAST-MODIFIED:20240320T185844Z
UID:5008-1713600000-1714496400@start.cic-totalcare.com
SUMMARY:Moratorium
DESCRIPTION:
URL:https://start.cic-totalcare.com/event/moratorium-3/
CATEGORIES:SLD
END:VEVENT
END:VCALENDAR