BEGIN:VCALENDAR
VERSION:2.0
PRODID:-//Columbia International College - ECPv4.6.20.1//NONSGML v1.0//EN
CALSCALE:GREGORIAN
METHOD:PUBLISH
X-WR-CALNAME:Columbia International College
X-ORIGINAL-URL:https://start.cic-totalcare.com
X-WR-CALDESC:Events for Columbia International College
BEGIN:VEVENT
DTSTART;TZID=UTC+0:20240322T000000
DTEND;TZID=UTC+0:20240324T235900
DTSTAMP:20260421T204303
CREATED:20240222T152923Z
LAST-MODIFIED:20240222T153411Z
UID:4877-1711065600-1711324740@start.cic-totalcare.com
SUMMARY:First Robotics Competition
DESCRIPTION:
URL:https://start.cic-totalcare.com/event/first-robotics-competition-3/
CATEGORIES:SLD
END:VEVENT
BEGIN:VEVENT
DTSTART;VALUE=DATE:20240324
DTEND;VALUE=DATE:20240325
DTSTAMP:20260421T204303
CREATED:20240223T205601Z
LAST-MODIFIED:20240223T205601Z
UID:4939-1711238400-1711324799@start.cic-totalcare.com
SUMMARY:K-Pop Dance Class
DESCRIPTION:
URL:https://start.cic-totalcare.com/event/k-pop-dance-class/
CATEGORIES:Residence
END:VEVENT
BEGIN:VEVENT
DTSTART;TZID=UTC+0:20240324T080000
DTEND;TZID=UTC+0:20240324T170000
DTSTAMP:20260421T204303
CREATED:20240222T153341Z
LAST-MODIFIED:20240222T153341Z
UID:4883-1711267200-1711299600@start.cic-totalcare.com
SUMMARY:Around The Bay Road Race
DESCRIPTION:
URL:https://start.cic-totalcare.com/event/around-the-bay-road-race-2/
CATEGORIES:SLD
END:VEVENT
END:VCALENDAR