BEGIN:VCALENDAR
VERSION:2.0
PRODID:-//Columbia International College - ECPv4.6.20.1//NONSGML v1.0//EN
CALSCALE:GREGORIAN
METHOD:PUBLISH
X-WR-CALNAME:Columbia International College
X-ORIGINAL-URL:https://start.cic-totalcare.com
X-WR-CALDESC:Events for Columbia International College
BEGIN:VEVENT
DTSTART;TZID=UTC+0:20240319T080000
DTEND;TZID=UTC+0:20240321T170000
DTSTAMP:20260421T203754
CREATED:20240222T152507Z
LAST-MODIFIED:20240222T152507Z
UID:4871-1710835200-1711040400@start.cic-totalcare.com
SUMMARY:Basketball Intrumural
DESCRIPTION:
URL:https://start.cic-totalcare.com/event/basketball-intrumural/
CATEGORIES:SLD
END:VEVENT
BEGIN:VEVENT
DTSTART;VALUE=DATE:20240321
DTEND;VALUE=DATE:20240322
DTSTAMP:20260421T203754
CREATED:20240223T205145Z
LAST-MODIFIED:20240223T205145Z
UID:4933-1710979200-1711065599@start.cic-totalcare.com
SUMMARY:Open Kitchen
DESCRIPTION:
URL:https://start.cic-totalcare.com/event/open-kitchen-52/
CATEGORIES:Residence
END:VEVENT
END:VCALENDAR