BEGIN:VCALENDAR
VERSION:2.0
PRODID:-//Columbia International College - ECPv4.6.20.1//NONSGML v1.0//EN
CALSCALE:GREGORIAN
METHOD:PUBLISH
X-WR-CALNAME:Columbia International College
X-ORIGINAL-URL:https://start.cic-totalcare.com
X-WR-CALDESC:Events for Columbia International College
BEGIN:VEVENT
DTSTART;VALUE=DATE:20240207
DTEND;VALUE=DATE:20240208
DTSTAMP:20260421T222626
CREATED:20240117T144930Z
LAST-MODIFIED:20240117T144930Z
UID:4728-1707264000-1707350399@start.cic-totalcare.com
SUMMARY:Forge FC VS Guadalajara
DESCRIPTION:
URL:https://start.cic-totalcare.com/event/forge-fc-vs-guadalajara/
CATEGORIES:SLD
END:VEVENT
BEGIN:VEVENT
DTSTART;VALUE=DATE:20240207
DTEND;VALUE=DATE:20240208
DTSTAMP:20260421T222626
CREATED:20240119T191139Z
LAST-MODIFIED:20240119T191139Z
UID:4763-1707264000-1707350399@start.cic-totalcare.com
SUMMARY:Community Service: Valentine Handout
DESCRIPTION:
URL:https://start.cic-totalcare.com/event/community-service-valentine-handout/
CATEGORIES:Residence
END:VEVENT
BEGIN:VEVENT
DTSTART;VALUE=DATE:20240207
DTEND;VALUE=DATE:20240208
DTSTAMP:20260421T222626
CREATED:20240119T192122Z
LAST-MODIFIED:20240119T192122Z
UID:4799-1707264000-1707350399@start.cic-totalcare.com
SUMMARY:Badminton Intramural
DESCRIPTION:
URL:https://start.cic-totalcare.com/event/badminton-intramural/
CATEGORIES:SLD
END:VEVENT
END:VCALENDAR