BEGIN:VCALENDAR
VERSION:2.0
PRODID:-//Columbia International College - ECPv4.6.20.1//NONSGML v1.0//EN
CALSCALE:GREGORIAN
METHOD:PUBLISH
X-WR-CALNAME:Columbia International College
X-ORIGINAL-URL:https://start.cic-totalcare.com
X-WR-CALDESC:Events for Columbia International College
BEGIN:VEVENT
DTSTART;VALUE=DATE:20240116
DTEND;VALUE=DATE:20240117
DTSTAMP:20260422T000251
CREATED:20231208T200149Z
LAST-MODIFIED:20231208T200149Z
UID:4569-1705363200-1705449599@start.cic-totalcare.com
SUMMARY:Total Care+ Club Sign Up
DESCRIPTION:
URL:https://start.cic-totalcare.com/event/total-care-club-sign-up/
CATEGORIES:SLD
END:VEVENT
BEGIN:VEVENT
DTSTART;VALUE=DATE:20240116
DTEND;VALUE=DATE:20240117
DTSTAMP:20260422T000251
CREATED:20231219T191740Z
LAST-MODIFIED:20231219T191740Z
UID:4598-1705363200-1705449599@start.cic-totalcare.com
SUMMARY:Knitting
DESCRIPTION:
URL:https://start.cic-totalcare.com/event/knitting-15/
CATEGORIES:Residence
END:VEVENT
END:VCALENDAR