BEGIN:VCALENDAR
VERSION:2.0
PRODID:-//Columbia International College - ECPv4.6.20.1//NONSGML v1.0//EN
CALSCALE:GREGORIAN
METHOD:PUBLISH
X-WR-CALNAME:Columbia International College
X-ORIGINAL-URL:https://start.cic-totalcare.com
X-WR-CALDESC:Events for Columbia International College
BEGIN:VEVENT
DTSTART;VALUE=DATE:20231209
DTEND;VALUE=DATE:20231222
DTSTAMP:20260422T014124
CREATED:20231208T192520Z
LAST-MODIFIED:20231208T192520Z
UID:4445-1702080000-1703203199@start.cic-totalcare.com
SUMMARY:EPP Trip - Galapagos Islands
DESCRIPTION:
URL:https://start.cic-totalcare.com/event/epp-trip-galapagos-islands/
CATEGORIES:SLD
END:VEVENT
BEGIN:VEVENT
DTSTART;VALUE=DATE:20231218
DTEND;VALUE=DATE:20231219
DTSTAMP:20260422T014124
CREATED:20231208T193550Z
LAST-MODIFIED:20231208T193550Z
UID:4461-1702857600-1702943999@start.cic-totalcare.com
SUMMARY:Christmas Tree of Hope
DESCRIPTION:
URL:https://start.cic-totalcare.com/event/christmas-tree-of-hope-3/
CATEGORIES:SLD
END:VEVENT
BEGIN:VEVENT
DTSTART;VALUE=DATE:20231218
DTEND;VALUE=DATE:20231219
DTSTAMP:20260422T014124
CREATED:20231208T193617Z
LAST-MODIFIED:20231208T193617Z
UID:4465-1702857600-1702943999@start.cic-totalcare.com
SUMMARY:AW Gym
DESCRIPTION:
URL:https://start.cic-totalcare.com/event/aw-gym/
CATEGORIES:SLD
END:VEVENT
BEGIN:VEVENT
DTSTART;VALUE=DATE:20231218
DTEND;VALUE=DATE:20231219
DTSTAMP:20260422T014124
CREATED:20231208T195330Z
LAST-MODIFIED:20231208T195330Z
UID:4527-1702857600-1702943999@start.cic-totalcare.com
SUMMARY:Holiday Baking for Seniors
DESCRIPTION:
URL:https://start.cic-totalcare.com/event/holiday-baking-for-seniors/
CATEGORIES:Residence
END:VEVENT
END:VCALENDAR