BEGIN:VCALENDAR
VERSION:2.0
PRODID:-//Columbia International College - ECPv4.6.20.1//NONSGML v1.0//EN
CALSCALE:GREGORIAN
METHOD:PUBLISH
X-WR-CALNAME:Columbia International College
X-ORIGINAL-URL:https://start.cic-totalcare.com
X-WR-CALDESC:Events for Columbia International College
BEGIN:VEVENT
DTSTART;VALUE=DATE:20231209
DTEND;VALUE=DATE:20231222
DTSTAMP:20260422T014049
CREATED:20231208T192520Z
LAST-MODIFIED:20231208T192520Z
UID:4445-1702080000-1703203199@start.cic-totalcare.com
SUMMARY:EPP Trip - Galapagos Islands
DESCRIPTION:
URL:https://start.cic-totalcare.com/event/epp-trip-galapagos-islands/
CATEGORIES:SLD
END:VEVENT
BEGIN:VEVENT
DTSTART;VALUE=DATE:20231214
DTEND;VALUE=DATE:20231215
DTSTAMP:20260422T014049
CREATED:20231208T192900Z
LAST-MODIFIED:20231208T192900Z
UID:4455-1702512000-1702598399@start.cic-totalcare.com
SUMMARY:December Graduation Ceremony
DESCRIPTION:
URL:https://start.cic-totalcare.com/event/december-graduation-ceremony/
END:VEVENT
BEGIN:VEVENT
DTSTART;VALUE=DATE:20231214
DTEND;VALUE=DATE:20231215
DTSTAMP:20260422T014049
CREATED:20231208T195115Z
LAST-MODIFIED:20231208T195115Z
UID:4509-1702512000-1702598399@start.cic-totalcare.com
SUMMARY:Open Kitchen
DESCRIPTION:
URL:https://start.cic-totalcare.com/event/open-kitchen-38/
CATEGORIES:Residence
END:VEVENT
END:VCALENDAR