BEGIN:VCALENDAR
VERSION:2.0
PRODID:-//Columbia International College - ECPv4.6.20.1//NONSGML v1.0//EN
CALSCALE:GREGORIAN
METHOD:PUBLISH
X-WR-CALNAME:Columbia International College
X-ORIGINAL-URL:https://start.cic-totalcare.com
X-WR-CALDESC:Events for Columbia International College
BEGIN:VEVENT
DTSTART;VALUE=DATE:20231117
DTEND;VALUE=DATE:20231118
DTSTAMP:20260422T032250
CREATED:20231018T200604Z
LAST-MODIFIED:20231018T200604Z
UID:4326-1700179200-1700265599@start.cic-totalcare.com
SUMMARY:Movie Trip | The Marvels
DESCRIPTION:
URL:https://start.cic-totalcare.com/event/movie-trip-the-marvels/
CATEGORIES:SLD
END:VEVENT
BEGIN:VEVENT
DTSTART;VALUE=DATE:20231117
DTEND;VALUE=DATE:20231118
DTSTAMP:20260422T032250
CREATED:20231018T200621Z
LAST-MODIFIED:20231018T200621Z
UID:4328-1700179200-1700265599@start.cic-totalcare.com
SUMMARY:Holiday Celebration of the Arts
DESCRIPTION:
URL:https://start.cic-totalcare.com/event/holiday-celebration-of-the-arts/
CATEGORIES:SLD
END:VEVENT
BEGIN:VEVENT
DTSTART;VALUE=DATE:20231117
DTEND;VALUE=DATE:20231118
DTSTAMP:20260422T032250
CREATED:20231103T193125Z
LAST-MODIFIED:20231103T193125Z
UID:4416-1700179200-1700265599@start.cic-totalcare.com
SUMMARY:Art Night
DESCRIPTION:
URL:https://start.cic-totalcare.com/event/art-night-9/
CATEGORIES:Residence
END:VEVENT
BEGIN:VEVENT
DTSTART;TZID=UTC+0:20231117T120000
DTEND;TZID=UTC+0:20231117T130000
DTSTAMP:20260422T032250
CREATED:20230925T183036Z
LAST-MODIFIED:20230925T183036Z
UID:3584-1700222400-1700226000@start.cic-totalcare.com
SUMMARY:University Visit - Les Roches /Glion school of Hospitality
DESCRIPTION:
URL:https://start.cic-totalcare.com/event/university-visit-les-roches-glion-school-of-hospitality/
CATEGORIES:UPO
END:VEVENT
BEGIN:VEVENT
DTSTART;TZID=UTC+0:20231117T160000
DTEND;TZID=UTC+0:20231117T170000
DTSTAMP:20260422T032250
CREATED:20230927T195454Z
LAST-MODIFIED:20230927T195454Z
UID:3794-1700236800-1700240400@start.cic-totalcare.com
SUMMARY:Robotics Club
DESCRIPTION:
URL:https://start.cic-totalcare.com/event/robotics-club-38/
CATEGORIES:SLD
END:VEVENT
BEGIN:VEVENT
DTSTART;TZID=UTC+0:20231117T160000
DTEND;TZID=UTC+0:20231117T170000
DTSTAMP:20260422T032250
CREATED:20230927T202348Z
LAST-MODIFIED:20230927T202348Z
UID:3992-1700236800-1700240400@start.cic-totalcare.com
SUMMARY:Model UN
DESCRIPTION:
URL:https://start.cic-totalcare.com/event/model-un-10/
CATEGORIES:SLD
END:VEVENT
BEGIN:VEVENT
DTSTART;TZID=UTC+0:20231117T160000
DTEND;TZID=UTC+0:20231117T170000
DTSTAMP:20260422T032250
CREATED:20230927T202517Z
LAST-MODIFIED:20230927T202517Z
UID:4008-1700236800-1700240400@start.cic-totalcare.com
SUMMARY:Polymer Clay Club
DESCRIPTION:
URL:https://start.cic-totalcare.com/event/polymer-clay-club-8/
CATEGORIES:SLD
END:VEVENT
BEGIN:VEVENT
DTSTART;TZID=UTC+0:20231117T160000
DTEND;TZID=UTC+0:20231117T170000
DTSTAMP:20260422T032250
CREATED:20230927T202634Z
LAST-MODIFIED:20230927T202634Z
UID:4024-1700236800-1700240400@start.cic-totalcare.com
SUMMARY:SOCS
DESCRIPTION:
URL:https://start.cic-totalcare.com/event/socs-8/
CATEGORIES:SLD
END:VEVENT
BEGIN:VEVENT
DTSTART;TZID=UTC+0:20231117T160000
DTEND;TZID=UTC+0:20231117T170000
DTSTAMP:20260422T032250
CREATED:20230927T202751Z
LAST-MODIFIED:20230927T202751Z
UID:4040-1700236800-1700240400@start.cic-totalcare.com
SUMMARY:Stress Busters Club
DESCRIPTION:
URL:https://start.cic-totalcare.com/event/stress-busters-club-8/
CATEGORIES:SLD
END:VEVENT
END:VCALENDAR