BEGIN:VCALENDAR
VERSION:2.0
PRODID:-//Columbia International College - ECPv4.6.20.1//NONSGML v1.0//EN
CALSCALE:GREGORIAN
METHOD:PUBLISH
X-WR-CALNAME:Columbia International College
X-ORIGINAL-URL:https://start.cic-totalcare.com
X-WR-CALDESC:Events for Columbia International College
BEGIN:VEVENT
DTSTART;VALUE=DATE:20231113
DTEND;VALUE=DATE:20231114
DTSTAMP:20260422T032633
CREATED:20231103T193241Z
LAST-MODIFIED:20231103T193241Z
UID:4426-1699833600-1699919999@start.cic-totalcare.com
SUMMARY:Food Handout for Homeless
DESCRIPTION:
URL:https://start.cic-totalcare.com/event/food-handout-for-homeless/
CATEGORIES:Residence
END:VEVENT
BEGIN:VEVENT
DTSTART;TZID=UTC+0:20231113T160000
DTEND;TZID=UTC+0:20231113T170000
DTSTAMP:20260422T032633
CREATED:20230914T192706Z
LAST-MODIFIED:20230914T192706Z
UID:3576-1699891200-1699894800@start.cic-totalcare.com
SUMMARY:University Visit : Western University
DESCRIPTION:
URL:https://start.cic-totalcare.com/event/university-visit-western-university/
CATEGORIES:UPO
END:VEVENT
BEGIN:VEVENT
DTSTART;TZID=UTC+0:20231113T160000
DTEND;TZID=UTC+0:20231113T170000
DTSTAMP:20260422T032633
CREATED:20230926T204854Z
LAST-MODIFIED:20230926T204854Z
UID:3634-1699891200-1699894800@start.cic-totalcare.com
SUMMARY:Arts & Crafts Club
DESCRIPTION:
URL:https://start.cic-totalcare.com/event/arts-crafts-club-7/
END:VEVENT
BEGIN:VEVENT
DTSTART;TZID=UTC+0:20231113T160000
DTEND;TZID=UTC+0:20231113T180000
DTSTAMP:20260422T032633
CREATED:20230926T205120Z
LAST-MODIFIED:20230926T205120Z
UID:3648-1699891200-1699898400@start.cic-totalcare.com
SUMMARY:Cooking Club
DESCRIPTION:
URL:https://start.cic-totalcare.com/event/cooking-club-7/
END:VEVENT
BEGIN:VEVENT
DTSTART;TZID=UTC+0:20231113T160000
DTEND;TZID=UTC+0:20231113T170000
DTSTAMP:20260422T032633
CREATED:20230926T205311Z
LAST-MODIFIED:20230926T205311Z
UID:3662-1699891200-1699894800@start.cic-totalcare.com
SUMMARY:DECA
DESCRIPTION:
URL:https://start.cic-totalcare.com/event/deca-7/
END:VEVENT
BEGIN:VEVENT
DTSTART;TZID=UTC+0:20231113T160000
DTEND;TZID=UTC+0:20231113T170000
DTSTAMP:20260422T032633
CREATED:20230926T205434Z
LAST-MODIFIED:20230926T205434Z
UID:3676-1699891200-1699894800@start.cic-totalcare.com
SUMMARY:Duke of Ed
DESCRIPTION:
URL:https://start.cic-totalcare.com/event/duke-of-ed-7/
END:VEVENT
BEGIN:VEVENT
DTSTART;TZID=UTC+0:20231113T160000
DTEND;TZID=UTC+0:20231113T170000
DTSTAMP:20260422T032633
CREATED:20230927T194202Z
LAST-MODIFIED:20230927T194202Z
UID:3690-1699891200-1699894800@start.cic-totalcare.com
SUMMARY:Open Fitness
DESCRIPTION:
URL:https://start.cic-totalcare.com/event/open-fitness-7/
CATEGORIES:SLD
END:VEVENT
BEGIN:VEVENT
DTSTART;TZID=UTC+0:20231113T160000
DTEND;TZID=UTC+0:20231113T170000
DTSTAMP:20260422T032633
CREATED:20230927T194341Z
LAST-MODIFIED:20230927T194341Z
UID:3704-1699891200-1699894800@start.cic-totalcare.com
SUMMARY:Karaoke
DESCRIPTION:
URL:https://start.cic-totalcare.com/event/karaoke-8/
CATEGORIES:SLD
END:VEVENT
BEGIN:VEVENT
DTSTART;TZID=UTC+0:20231113T160000
DTEND;TZID=UTC+0:20231113T170000
DTSTAMP:20260422T032633
CREATED:20230927T194602Z
LAST-MODIFIED:20230927T194602Z
UID:3718-1699891200-1699894800@start.cic-totalcare.com
SUMMARY:Piano Club
DESCRIPTION:
URL:https://start.cic-totalcare.com/event/piano-club-7/
CATEGORIES:SLD
END:VEVENT
BEGIN:VEVENT
DTSTART;TZID=UTC+0:20231113T160000
DTEND;TZID=UTC+0:20231113T170000
DTSTAMP:20260422T032633
CREATED:20230927T194849Z
LAST-MODIFIED:20230927T194849Z
UID:3732-1699891200-1699894800@start.cic-totalcare.com
SUMMARY:Robotics Club
DESCRIPTION:
URL:https://start.cic-totalcare.com/event/robotics-club-7/
CATEGORIES:SLD
END:VEVENT
END:VCALENDAR