BEGIN:VCALENDAR
VERSION:2.0
PRODID:-//Columbia International College - ECPv4.6.20.1//NONSGML v1.0//EN
CALSCALE:GREGORIAN
METHOD:PUBLISH
X-WR-CALNAME:Columbia International College
X-ORIGINAL-URL:https://start.cic-totalcare.com
X-WR-CALDESC:Events for Columbia International College
BEGIN:VEVENT
DTSTART;VALUE=DATE:20231106
DTEND;VALUE=DATE:20231107
DTSTAMP:20260422T032352
CREATED:20231103T193008Z
LAST-MODIFIED:20231103T193008Z
UID:4406-1699228800-1699315199@start.cic-totalcare.com
SUMMARY:Sewing
DESCRIPTION:
URL:https://start.cic-totalcare.com/event/sewing-7/
CATEGORIES:Residence
END:VEVENT
BEGIN:VEVENT
DTSTART;TZID=UTC+0:20231106T160000
DTEND;TZID=UTC+0:20231106T170000
DTSTAMP:20260422T032352
CREATED:20230926T204842Z
LAST-MODIFIED:20230926T204842Z
UID:3632-1699286400-1699290000@start.cic-totalcare.com
SUMMARY:Arts & Crafts Club
DESCRIPTION:
URL:https://start.cic-totalcare.com/event/arts-crafts-club-6/
END:VEVENT
BEGIN:VEVENT
DTSTART;TZID=UTC+0:20231106T160000
DTEND;TZID=UTC+0:20231106T180000
DTSTAMP:20260422T032352
CREATED:20230926T205110Z
LAST-MODIFIED:20230926T205110Z
UID:3646-1699286400-1699293600@start.cic-totalcare.com
SUMMARY:Cooking Club
DESCRIPTION:
URL:https://start.cic-totalcare.com/event/cooking-club-6/
END:VEVENT
BEGIN:VEVENT
DTSTART;TZID=UTC+0:20231106T160000
DTEND;TZID=UTC+0:20231106T170000
DTSTAMP:20260422T032352
CREATED:20230926T205258Z
LAST-MODIFIED:20230926T205258Z
UID:3660-1699286400-1699290000@start.cic-totalcare.com
SUMMARY:DECA
DESCRIPTION:
URL:https://start.cic-totalcare.com/event/deca-6/
END:VEVENT
BEGIN:VEVENT
DTSTART;TZID=UTC+0:20231106T160000
DTEND;TZID=UTC+0:20231106T170000
DTSTAMP:20260422T032352
CREATED:20230926T205427Z
LAST-MODIFIED:20230926T205427Z
UID:3674-1699286400-1699290000@start.cic-totalcare.com
SUMMARY:Duke of Ed
DESCRIPTION:
URL:https://start.cic-totalcare.com/event/duke-of-ed-6/
END:VEVENT
BEGIN:VEVENT
DTSTART;TZID=UTC+0:20231106T160000
DTEND;TZID=UTC+0:20231106T170000
DTSTAMP:20260422T032352
CREATED:20230927T194152Z
LAST-MODIFIED:20230927T194152Z
UID:3688-1699286400-1699290000@start.cic-totalcare.com
SUMMARY:Open Fitness
DESCRIPTION:
URL:https://start.cic-totalcare.com/event/open-fitness-6/
CATEGORIES:SLD
END:VEVENT
BEGIN:VEVENT
DTSTART;TZID=UTC+0:20231106T160000
DTEND;TZID=UTC+0:20231106T170000
DTSTAMP:20260422T032352
CREATED:20230927T194319Z
LAST-MODIFIED:20230927T194319Z
UID:3702-1699286400-1699290000@start.cic-totalcare.com
SUMMARY:Karaoke
DESCRIPTION:
URL:https://start.cic-totalcare.com/event/karaoke-7/
CATEGORIES:SLD
END:VEVENT
BEGIN:VEVENT
DTSTART;TZID=UTC+0:20231106T160000
DTEND;TZID=UTC+0:20231106T170000
DTSTAMP:20260422T032352
CREATED:20230927T194553Z
LAST-MODIFIED:20230927T194553Z
UID:3716-1699286400-1699290000@start.cic-totalcare.com
SUMMARY:Piano Club
DESCRIPTION:
URL:https://start.cic-totalcare.com/event/piano-club-6/
CATEGORIES:SLD
END:VEVENT
BEGIN:VEVENT
DTSTART;TZID=UTC+0:20231106T160000
DTEND;TZID=UTC+0:20231106T170000
DTSTAMP:20260422T032352
CREATED:20230927T194840Z
LAST-MODIFIED:20230927T194840Z
UID:3730-1699286400-1699290000@start.cic-totalcare.com
SUMMARY:Robotics Club
DESCRIPTION:
URL:https://start.cic-totalcare.com/event/robotics-club-6/
CATEGORIES:SLD
END:VEVENT
BEGIN:VEVENT
DTSTART;TZID=UTC+0:20231106T160000
DTEND;TZID=UTC+0:20231106T170000
DTSTAMP:20260422T032352
CREATED:20231016T190529Z
LAST-MODIFIED:20231016T190529Z
UID:4300-1699286400-1699290000@start.cic-totalcare.com
SUMMARY:University Visit | York University
DESCRIPTION:
URL:https://start.cic-totalcare.com/event/university-visit-york-university/
CATEGORIES:UPO
END:VEVENT
END:VCALENDAR