BEGIN:VCALENDAR
VERSION:2.0
PRODID:-//Columbia International College - ECPv4.6.20.1//NONSGML v1.0//EN
CALSCALE:GREGORIAN
METHOD:PUBLISH
X-WR-CALNAME:Columbia International College
X-ORIGINAL-URL:https://start.cic-totalcare.com
X-WR-CALDESC:Events for Columbia International College
BEGIN:VEVENT
DTSTART;VALUE=DATE:20231030
DTEND;VALUE=DATE:20231031
DTSTAMP:20260422T032255
CREATED:20230928T200024Z
LAST-MODIFIED:20230928T200024Z
UID:4202-1698624000-1698710399@start.cic-totalcare.com
SUMMARY:Spooky Escape Room
DESCRIPTION:
URL:https://start.cic-totalcare.com/event/spooky-escape-room/
CATEGORIES:Residence
END:VEVENT
BEGIN:VEVENT
DTSTART;TZID=UTC+0:20231030T160000
DTEND;TZID=UTC+0:20231030T170000
DTSTAMP:20260422T032255
CREATED:20230914T192602Z
LAST-MODIFIED:20230914T192602Z
UID:3572-1698681600-1698685200@start.cic-totalcare.com
SUMMARY:University Visit : University of Carleton
DESCRIPTION:
URL:https://start.cic-totalcare.com/event/university-visit-university-of-carleton/
CATEGORIES:UPO
END:VEVENT
BEGIN:VEVENT
DTSTART;TZID=UTC+0:20231030T160000
DTEND;TZID=UTC+0:20231030T170000
DTSTAMP:20260422T032255
CREATED:20230926T204831Z
LAST-MODIFIED:20230926T204831Z
UID:3630-1698681600-1698685200@start.cic-totalcare.com
SUMMARY:Arts & Crafts Club
DESCRIPTION:
URL:https://start.cic-totalcare.com/event/arts-crafts-club-5/
END:VEVENT
BEGIN:VEVENT
DTSTART;TZID=UTC+0:20231030T160000
DTEND;TZID=UTC+0:20231030T180000
DTSTAMP:20260422T032255
CREATED:20230926T205101Z
LAST-MODIFIED:20230926T205101Z
UID:3644-1698681600-1698688800@start.cic-totalcare.com
SUMMARY:Cooking Club
DESCRIPTION:
URL:https://start.cic-totalcare.com/event/cooking-club-5/
END:VEVENT
BEGIN:VEVENT
DTSTART;TZID=UTC+0:20231030T160000
DTEND;TZID=UTC+0:20231030T170000
DTSTAMP:20260422T032255
CREATED:20230926T205239Z
LAST-MODIFIED:20230926T205239Z
UID:3658-1698681600-1698685200@start.cic-totalcare.com
SUMMARY:DECA
DESCRIPTION:
URL:https://start.cic-totalcare.com/event/deca-5/
END:VEVENT
BEGIN:VEVENT
DTSTART;TZID=UTC+0:20231030T160000
DTEND;TZID=UTC+0:20231030T170000
DTSTAMP:20260422T032255
CREATED:20230926T205418Z
LAST-MODIFIED:20230926T205418Z
UID:3672-1698681600-1698685200@start.cic-totalcare.com
SUMMARY:Duke of Ed
DESCRIPTION:
URL:https://start.cic-totalcare.com/event/duke-of-ed-5/
END:VEVENT
BEGIN:VEVENT
DTSTART;TZID=UTC+0:20231030T160000
DTEND;TZID=UTC+0:20231030T170000
DTSTAMP:20260422T032255
CREATED:20230927T194139Z
LAST-MODIFIED:20230927T194139Z
UID:3686-1698681600-1698685200@start.cic-totalcare.com
SUMMARY:Open Fitness
DESCRIPTION:
URL:https://start.cic-totalcare.com/event/open-fitness-5/
CATEGORIES:SLD
END:VEVENT
BEGIN:VEVENT
DTSTART;TZID=UTC+0:20231030T160000
DTEND;TZID=UTC+0:20231030T170000
DTSTAMP:20260422T032255
CREATED:20230927T194308Z
LAST-MODIFIED:20230927T194308Z
UID:3700-1698681600-1698685200@start.cic-totalcare.com
SUMMARY:Karaoke
DESCRIPTION:
URL:https://start.cic-totalcare.com/event/karaoke-6/
CATEGORIES:SLD
END:VEVENT
BEGIN:VEVENT
DTSTART;TZID=UTC+0:20231030T160000
DTEND;TZID=UTC+0:20231030T170000
DTSTAMP:20260422T032255
CREATED:20230927T194542Z
LAST-MODIFIED:20230927T194542Z
UID:3714-1698681600-1698685200@start.cic-totalcare.com
SUMMARY:Piano Club
DESCRIPTION:
URL:https://start.cic-totalcare.com/event/piano-club-5/
CATEGORIES:SLD
END:VEVENT
BEGIN:VEVENT
DTSTART;TZID=UTC+0:20231030T160000
DTEND;TZID=UTC+0:20231030T170000
DTSTAMP:20260422T032255
CREATED:20230927T194830Z
LAST-MODIFIED:20230927T194830Z
UID:3728-1698681600-1698685200@start.cic-totalcare.com
SUMMARY:Robotics Club
DESCRIPTION:
URL:https://start.cic-totalcare.com/event/robotics-club-5/
CATEGORIES:SLD
END:VEVENT
END:VCALENDAR