BEGIN:VCALENDAR
VERSION:2.0
PRODID:-//Columbia International College - ECPv4.6.20.1//NONSGML v1.0//EN
CALSCALE:GREGORIAN
METHOD:PUBLISH
X-WR-CALNAME:Columbia International College
X-ORIGINAL-URL:https://start.cic-totalcare.com
X-WR-CALDESC:Events for Columbia International College
BEGIN:VEVENT
DTSTART;VALUE=DATE:20231024
DTEND;VALUE=DATE:20231025
DTSTAMP:20260422T045703
CREATED:20230928T195736Z
LAST-MODIFIED:20230928T195736Z
UID:4188-1698105600-1698191999@start.cic-totalcare.com
SUMMARY:Knitting
DESCRIPTION:
URL:https://start.cic-totalcare.com/event/knitting-11/
CATEGORIES:Residence
END:VEVENT
BEGIN:VEVENT
DTSTART;TZID=UTC+0:20231024T080000
DTEND;TZID=UTC+0:20231024T090000
DTSTAMP:20260422T045703
CREATED:20230927T195613Z
LAST-MODIFIED:20230927T195613Z
UID:3802-1698134400-1698138000@start.cic-totalcare.com
SUMMARY:Open Volleyball
DESCRIPTION:
URL:https://start.cic-totalcare.com/event/open-volleyball-4/
CATEGORIES:SLD
END:VEVENT
BEGIN:VEVENT
DTSTART;TZID=UTC+0:20231024T120000
DTEND;TZID=UTC+0:20231024T130000
DTSTAMP:20260422T045703
CREATED:20231016T190306Z
LAST-MODIFIED:20231016T190306Z
UID:4295-1698148800-1698152400@start.cic-totalcare.com
SUMMARY:University Visit | Toronto Metropolitan University - Engineering
DESCRIPTION:
URL:https://start.cic-totalcare.com/event/university-visit-toronto-metropolitan-university-engineering/
CATEGORIES:UPO
END:VEVENT
BEGIN:VEVENT
DTSTART;TZID=UTC+0:20231024T160000
DTEND;TZID=UTC+0:20231024T170000
DTSTAMP:20260422T045703
CREATED:20230927T195214Z
LAST-MODIFIED:20230927T195214Z
UID:3762-1698163200-1698166800@start.cic-totalcare.com
SUMMARY:Robotics Club
DESCRIPTION:
URL:https://start.cic-totalcare.com/event/robotics-club-22/
CATEGORIES:SLD
END:VEVENT
BEGIN:VEVENT
DTSTART;TZID=UTC+0:20231024T160000
DTEND;TZID=UTC+0:20231024T170000
DTSTAMP:20260422T045703
CREATED:20230927T195822Z
LAST-MODIFIED:20230927T195822Z
UID:3816-1698163200-1698166800@start.cic-totalcare.com
SUMMARY:Archery Club
DESCRIPTION:
URL:https://start.cic-totalcare.com/event/archery-club-4/
CATEGORIES:SLD
END:VEVENT
BEGIN:VEVENT
DTSTART;TZID=UTC+0:20231024T160000
DTEND;TZID=UTC+0:20231024T170000
DTSTAMP:20260422T045703
CREATED:20230927T200000Z
LAST-MODIFIED:20230927T200000Z
UID:3830-1698163200-1698166800@start.cic-totalcare.com
SUMMARY:Athletic Council
DESCRIPTION:
URL:https://start.cic-totalcare.com/event/athletic-council-4/
CATEGORIES:SLD
END:VEVENT
BEGIN:VEVENT
DTSTART;TZID=UTC+0:20231024T160000
DTEND;TZID=UTC+0:20231024T170000
DTSTAMP:20260422T045703
CREATED:20230927T200843Z
LAST-MODIFIED:20230927T200843Z
UID:3858-1698163200-1698166800@start.cic-totalcare.com
SUMMARY:Service Prefects
DESCRIPTION:
URL:https://start.cic-totalcare.com/event/service-prefects-4/
CATEGORIES:SLD
END:VEVENT
BEGIN:VEVENT
DTSTART;TZID=UTC+0:20231024T160000
DTEND;TZID=UTC+0:20231024T170000
DTSTAMP:20260422T045703
CREATED:20231016T190412Z
LAST-MODIFIED:20231016T190412Z
UID:4297-1698163200-1698166800@start.cic-totalcare.com
SUMMARY:University Visit | University of Waterloo - Nanotechnology & Engineering
DESCRIPTION:
URL:https://start.cic-totalcare.com/event/university-visit-university-of-waterloo-nanotechnology-engineering/
CATEGORIES:UPO
END:VEVENT
BEGIN:VEVENT
DTSTART;TZID=UTC+0:20231024T163000
DTEND;TZID=UTC+0:20231024T180000
DTSTAMP:20260422T045703
CREATED:20230927T200659Z
LAST-MODIFIED:20230927T200659Z
UID:3844-1698165000-1698170400@start.cic-totalcare.com
SUMMARY:Bake a Difference
DESCRIPTION:
URL:https://start.cic-totalcare.com/event/bake-a-difference-4/
CATEGORIES:SLD
END:VEVENT
END:VCALENDAR