BEGIN:VCALENDAR
VERSION:2.0
PRODID:-//Columbia International College - ECPv4.6.20.1//NONSGML v1.0//EN
CALSCALE:GREGORIAN
METHOD:PUBLISH
X-WR-CALNAME:Columbia International College
X-ORIGINAL-URL:https://start.cic-totalcare.com
X-WR-CALDESC:Events for Columbia International College
BEGIN:VEVENT
DTSTART;VALUE=DATE:20231023
DTEND;VALUE=DATE:20231024
DTSTAMP:20260422T045750
CREATED:20230928T195935Z
LAST-MODIFIED:20230928T195935Z
UID:4196-1698019200-1698105599@start.cic-totalcare.com
SUMMARY:Animal Shelter Supply Drive
DESCRIPTION:
URL:https://start.cic-totalcare.com/event/animal-shelter-supply-drive/
CATEGORIES:Residence
END:VEVENT
BEGIN:VEVENT
DTSTART;TZID=UTC+0:20231023T160000
DTEND;TZID=UTC+0:20231023T170000
DTSTAMP:20260422T045750
CREATED:20230926T204818Z
LAST-MODIFIED:20230926T204818Z
UID:3628-1698076800-1698080400@start.cic-totalcare.com
SUMMARY:Arts & Crafts Club
DESCRIPTION:
URL:https://start.cic-totalcare.com/event/arts-crafts-club-4/
END:VEVENT
BEGIN:VEVENT
DTSTART;TZID=UTC+0:20231023T160000
DTEND;TZID=UTC+0:20231023T180000
DTSTAMP:20260422T045750
CREATED:20230926T205050Z
LAST-MODIFIED:20230926T205050Z
UID:3642-1698076800-1698084000@start.cic-totalcare.com
SUMMARY:Cooking Club
DESCRIPTION:
URL:https://start.cic-totalcare.com/event/cooking-club-4/
END:VEVENT
BEGIN:VEVENT
DTSTART;TZID=UTC+0:20231023T160000
DTEND;TZID=UTC+0:20231023T170000
DTSTAMP:20260422T045750
CREATED:20230926T205230Z
LAST-MODIFIED:20230926T205230Z
UID:3656-1698076800-1698080400@start.cic-totalcare.com
SUMMARY:DECA
DESCRIPTION:
URL:https://start.cic-totalcare.com/event/deca-4/
END:VEVENT
BEGIN:VEVENT
DTSTART;TZID=UTC+0:20231023T160000
DTEND;TZID=UTC+0:20231023T170000
DTSTAMP:20260422T045750
CREATED:20230926T205411Z
LAST-MODIFIED:20230926T205411Z
UID:3670-1698076800-1698080400@start.cic-totalcare.com
SUMMARY:Duke of Ed
DESCRIPTION:
URL:https://start.cic-totalcare.com/event/duke-of-ed-4/
END:VEVENT
BEGIN:VEVENT
DTSTART;TZID=UTC+0:20231023T160000
DTEND;TZID=UTC+0:20231023T170000
DTSTAMP:20260422T045750
CREATED:20230927T194129Z
LAST-MODIFIED:20230927T194129Z
UID:3684-1698076800-1698080400@start.cic-totalcare.com
SUMMARY:Open Fitness
DESCRIPTION:
URL:https://start.cic-totalcare.com/event/open-fitness-4/
CATEGORIES:SLD
END:VEVENT
BEGIN:VEVENT
DTSTART;TZID=UTC+0:20231023T160000
DTEND;TZID=UTC+0:20231023T170000
DTSTAMP:20260422T045750
CREATED:20230927T194256Z
LAST-MODIFIED:20230927T194256Z
UID:3698-1698076800-1698080400@start.cic-totalcare.com
SUMMARY:Karaoke
DESCRIPTION:
URL:https://start.cic-totalcare.com/event/karaoke-5/
CATEGORIES:SLD
END:VEVENT
BEGIN:VEVENT
DTSTART;TZID=UTC+0:20231023T160000
DTEND;TZID=UTC+0:20231023T170000
DTSTAMP:20260422T045750
CREATED:20230927T194531Z
LAST-MODIFIED:20230927T194531Z
UID:3712-1698076800-1698080400@start.cic-totalcare.com
SUMMARY:Piano Club
DESCRIPTION:
URL:https://start.cic-totalcare.com/event/piano-club-4/
CATEGORIES:SLD
END:VEVENT
BEGIN:VEVENT
DTSTART;TZID=UTC+0:20231023T160000
DTEND;TZID=UTC+0:20231023T170000
DTSTAMP:20260422T045750
CREATED:20230927T194822Z
LAST-MODIFIED:20230927T194822Z
UID:3726-1698076800-1698080400@start.cic-totalcare.com
SUMMARY:Robotics Club
DESCRIPTION:
URL:https://start.cic-totalcare.com/event/robotics-club-4/
CATEGORIES:SLD
END:VEVENT
END:VCALENDAR