BEGIN:VCALENDAR
VERSION:2.0
PRODID:-//Columbia International College - ECPv4.6.20.1//NONSGML v1.0//EN
CALSCALE:GREGORIAN
METHOD:PUBLISH
X-WR-CALNAME:Columbia International College
X-ORIGINAL-URL:https://start.cic-totalcare.com
X-WR-CALDESC:Events for Columbia International College
BEGIN:VEVENT
DTSTART;VALUE=DATE:20231019
DTEND;VALUE=DATE:20231020
DTSTAMP:20260422T045703
CREATED:20230928T195121Z
LAST-MODIFIED:20230928T195121Z
UID:4170-1697673600-1697759999@start.cic-totalcare.com
SUMMARY:Open Kitchen
DESCRIPTION:
URL:https://start.cic-totalcare.com/event/open-kitchen-34/
CATEGORIES:Residence
END:VEVENT
BEGIN:VEVENT
DTSTART;TZID=UTC+0:20231019T080000
DTEND;TZID=UTC+0:20231019T090000
DTSTAMP:20260422T045703
CREATED:20230927T201021Z
LAST-MODIFIED:20230927T201021Z
UID:3872-1697702400-1697706000@start.cic-totalcare.com
SUMMARY:Open Badminton
DESCRIPTION:
URL:https://start.cic-totalcare.com/event/open-badminton-4/
CATEGORIES:SLD
END:VEVENT
BEGIN:VEVENT
DTSTART;TZID=UTC+0:20231019T120000
DTEND;TZID=UTC+0:20231019T130000
DTSTAMP:20260422T045703
CREATED:20231016T190014Z
LAST-MODIFIED:20231016T190014Z
UID:4291-1697716800-1697720400@start.cic-totalcare.com
SUMMARY:University Visit | Bishop's University
DESCRIPTION:
URL:https://start.cic-totalcare.com/event/university-visit-bishops-university/
CATEGORIES:UPO
END:VEVENT
BEGIN:VEVENT
DTSTART;TZID=UTC+0:20231019T160000
DTEND;TZID=UTC+0:20231019T170000
DTSTAMP:20260422T045703
CREATED:20230927T195154Z
LAST-MODIFIED:20230927T195154Z
UID:3758-1697731200-1697734800@start.cic-totalcare.com
SUMMARY:Robotics Club
DESCRIPTION:
URL:https://start.cic-totalcare.com/event/robotics-club-20/
CATEGORIES:SLD
END:VEVENT
BEGIN:VEVENT
DTSTART;TZID=UTC+0:20231019T160000
DTEND;TZID=UTC+0:20231019T170000
DTSTAMP:20260422T045703
CREATED:20230927T201155Z
LAST-MODIFIED:20230927T201155Z
UID:3888-1697731200-1697734800@start.cic-totalcare.com
SUMMARY:Choir
DESCRIPTION:
URL:https://start.cic-totalcare.com/event/choir-4/
CATEGORIES:SLD
END:VEVENT
BEGIN:VEVENT
DTSTART;TZID=UTC+0:20231019T160000
DTEND;TZID=UTC+0:20231019T170000
DTSTAMP:20260422T045703
CREATED:20230927T201328Z
LAST-MODIFIED:20230927T201328Z
UID:3904-1697731200-1697734800@start.cic-totalcare.com
SUMMARY:Crochet (Beginner | Advanced)
DESCRIPTION:
URL:https://start.cic-totalcare.com/event/crochet-beginner-advanced-4/
CATEGORIES:SLD
END:VEVENT
BEGIN:VEVENT
DTSTART;TZID=UTC+0:20231019T160000
DTEND;TZID=UTC+0:20231019T170000
DTSTAMP:20260422T045703
CREATED:20230927T201530Z
LAST-MODIFIED:20230927T201530Z
UID:3920-1697731200-1697734800@start.cic-totalcare.com
SUMMARY:Fashion Club
DESCRIPTION:
URL:https://start.cic-totalcare.com/event/fashion-club-4/
CATEGORIES:SLD
END:VEVENT
BEGIN:VEVENT
DTSTART;TZID=UTC+0:20231019T160000
DTEND;TZID=UTC+0:20231019T170000
DTSTAMP:20260422T045703
CREATED:20230927T201709Z
LAST-MODIFIED:20230927T201709Z
UID:3936-1697731200-1697734800@start.cic-totalcare.com
SUMMARY:Open Fitness
DESCRIPTION:
URL:https://start.cic-totalcare.com/event/open-fitness-11/
CATEGORIES:SLD
END:VEVENT
BEGIN:VEVENT
DTSTART;TZID=UTC+0:20231019T160000
DTEND;TZID=UTC+0:20231019T170000
DTSTAMP:20260422T045703
CREATED:20230927T202001Z
LAST-MODIFIED:20230927T202001Z
UID:3952-1697731200-1697734800@start.cic-totalcare.com
SUMMARY:Running Club
DESCRIPTION:
URL:https://start.cic-totalcare.com/event/running-club-4/
CATEGORIES:SLD
END:VEVENT
BEGIN:VEVENT
DTSTART;TZID=UTC+0:20231019T160000
DTEND;TZID=UTC+0:20231019T170000
DTSTAMP:20260422T045703
CREATED:20230927T202120Z
LAST-MODIFIED:20230927T202120Z
UID:3968-1697731200-1697734800@start.cic-totalcare.com
SUMMARY:Volleyball Club
DESCRIPTION:
URL:https://start.cic-totalcare.com/event/volleyball-club-4/
CATEGORIES:SLD
END:VEVENT
BEGIN:VEVENT
DTSTART;TZID=UTC+0:20231019T160000
DTEND;TZID=UTC+0:20231019T170000
DTSTAMP:20260422T045703
CREATED:20231016T190148Z
LAST-MODIFIED:20231016T190148Z
UID:4293-1697731200-1697734800@start.cic-totalcare.com
SUMMARY:University Visit | University of Waterloo
DESCRIPTION:
URL:https://start.cic-totalcare.com/event/university-visit-university-of-waterloo/
CATEGORIES:UPO
END:VEVENT
END:VCALENDAR