BEGIN:VCALENDAR
VERSION:2.0
PRODID:-//Columbia International College - ECPv4.6.20.1//NONSGML v1.0//EN
CALSCALE:GREGORIAN
METHOD:PUBLISH
X-WR-CALNAME:Columbia International College
X-ORIGINAL-URL:https://start.cic-totalcare.com
X-WR-CALDESC:Events for Columbia International College
BEGIN:VEVENT
DTSTART;VALUE=DATE:20231009
DTEND;VALUE=DATE:20231010
DTSTAMP:20260422T045929
CREATED:20230928T195715Z
LAST-MODIFIED:20230928T195715Z
UID:4184-1696809600-1696895999@start.cic-totalcare.com
SUMMARY:Pumpkin Pie Baking
DESCRIPTION:
URL:https://start.cic-totalcare.com/event/pumpkin-pie-baking/
CATEGORIES:Residence
END:VEVENT
BEGIN:VEVENT
DTSTART;TZID=UTC+0:20231009T160000
DTEND;TZID=UTC+0:20231009T170000
DTSTAMP:20260422T045929
CREATED:20230926T204757Z
LAST-MODIFIED:20230926T204757Z
UID:3624-1696867200-1696870800@start.cic-totalcare.com
SUMMARY:Arts & Crafts Club
DESCRIPTION:
URL:https://start.cic-totalcare.com/event/arts-crafts-club-2/
END:VEVENT
BEGIN:VEVENT
DTSTART;TZID=UTC+0:20231009T160000
DTEND;TZID=UTC+0:20231009T170000
DTSTAMP:20260422T045929
CREATED:20230926T205158Z
LAST-MODIFIED:20230926T205158Z
UID:3652-1696867200-1696870800@start.cic-totalcare.com
SUMMARY:DECA
DESCRIPTION:
URL:https://start.cic-totalcare.com/event/deca-2/
END:VEVENT
BEGIN:VEVENT
DTSTART;TZID=UTC+0:20231009T160000
DTEND;TZID=UTC+0:20231009T170000
DTSTAMP:20260422T045929
CREATED:20230926T205356Z
LAST-MODIFIED:20230926T205356Z
UID:3666-1696867200-1696870800@start.cic-totalcare.com
SUMMARY:Duke of Ed
DESCRIPTION:
URL:https://start.cic-totalcare.com/event/duke-of-ed-2/
END:VEVENT
BEGIN:VEVENT
DTSTART;TZID=UTC+0:20231009T160000
DTEND;TZID=UTC+0:20231009T170000
DTSTAMP:20260422T045929
CREATED:20230927T194105Z
LAST-MODIFIED:20230927T194105Z
UID:3680-1696867200-1696870800@start.cic-totalcare.com
SUMMARY:Open Fitness
DESCRIPTION:
URL:https://start.cic-totalcare.com/event/open-fitness-2/
CATEGORIES:SLD
END:VEVENT
BEGIN:VEVENT
DTSTART;TZID=UTC+0:20231009T160000
DTEND;TZID=UTC+0:20231009T170000
DTSTAMP:20260422T045929
CREATED:20230927T194237Z
LAST-MODIFIED:20230927T194237Z
UID:3694-1696867200-1696870800@start.cic-totalcare.com
SUMMARY:Karaoke
DESCRIPTION:
URL:https://start.cic-totalcare.com/event/karaoke-3/
CATEGORIES:SLD
END:VEVENT
BEGIN:VEVENT
DTSTART;TZID=UTC+0:20231009T160000
DTEND;TZID=UTC+0:20231009T170000
DTSTAMP:20260422T045929
CREATED:20230927T194512Z
LAST-MODIFIED:20230927T194512Z
UID:3708-1696867200-1696870800@start.cic-totalcare.com
SUMMARY:Piano Club
DESCRIPTION:
URL:https://start.cic-totalcare.com/event/piano-club-2/
CATEGORIES:SLD
END:VEVENT
BEGIN:VEVENT
DTSTART;TZID=UTC+0:20231009T160000
DTEND;TZID=UTC+0:20231009T170000
DTSTAMP:20260422T045929
CREATED:20230927T194715Z
LAST-MODIFIED:20230927T194715Z
UID:3722-1696867200-1696870800@start.cic-totalcare.com
SUMMARY:Robotics Club
DESCRIPTION:
URL:https://start.cic-totalcare.com/event/robotics-club-2/
CATEGORIES:SLD
END:VEVENT
BEGIN:VEVENT
DTSTART;TZID=UTC+0:20231009T163000
DTEND;TZID=UTC+0:20231009T180000
DTSTAMP:20260422T045929
CREATED:20230926T205029Z
LAST-MODIFIED:20230926T205029Z
UID:3638-1696869000-1696874400@start.cic-totalcare.com
SUMMARY:Cooking Club
DESCRIPTION:
URL:https://start.cic-totalcare.com/event/cooking-club-2/
END:VEVENT
END:VCALENDAR