BEGIN:VCALENDAR
VERSION:2.0
PRODID:-//Columbia International College - ECPv4.6.20.1//NONSGML v1.0//EN
CALSCALE:GREGORIAN
METHOD:PUBLISH
X-WR-CALNAME:Columbia International College
X-ORIGINAL-URL:https://start.cic-totalcare.com
X-WR-CALDESC:Events for Columbia International College
BEGIN:VEVENT
DTSTART;VALUE=DATE:20231002
DTEND;VALUE=DATE:20231003
DTSTAMP:20260422T045540
CREATED:20230928T194631Z
LAST-MODIFIED:20230928T194631Z
UID:4150-1696204800-1696291199@start.cic-totalcare.com
SUMMARY:Sewing
DESCRIPTION:
URL:https://start.cic-totalcare.com/event/sewing-6/
CATEGORIES:Residence
END:VEVENT
BEGIN:VEVENT
DTSTART;TZID=UTC+0:20231002T160000
DTEND;TZID=UTC+0:20231002T170000
DTSTAMP:20260422T045540
CREATED:20230926T204745Z
LAST-MODIFIED:20230926T204745Z
UID:3622-1696262400-1696266000@start.cic-totalcare.com
SUMMARY:Arts & Crafts Club
DESCRIPTION:
URL:https://start.cic-totalcare.com/event/arts-crafts-club/
END:VEVENT
BEGIN:VEVENT
DTSTART;TZID=UTC+0:20231002T160000
DTEND;TZID=UTC+0:20231002T170000
DTSTAMP:20260422T045540
CREATED:20230926T205148Z
LAST-MODIFIED:20230926T205148Z
UID:3650-1696262400-1696266000@start.cic-totalcare.com
SUMMARY:DECA
DESCRIPTION:
URL:https://start.cic-totalcare.com/event/deca/
END:VEVENT
BEGIN:VEVENT
DTSTART;TZID=UTC+0:20231002T160000
DTEND;TZID=UTC+0:20231002T170000
DTSTAMP:20260422T045540
CREATED:20230926T205346Z
LAST-MODIFIED:20230926T205346Z
UID:3664-1696262400-1696266000@start.cic-totalcare.com
SUMMARY:Duke of Ed
DESCRIPTION:
URL:https://start.cic-totalcare.com/event/duke-of-ed/
END:VEVENT
BEGIN:VEVENT
DTSTART;TZID=UTC+0:20231002T160000
DTEND;TZID=UTC+0:20231002T170000
DTSTAMP:20260422T045540
CREATED:20230927T194054Z
LAST-MODIFIED:20230927T194054Z
UID:3678-1696262400-1696266000@start.cic-totalcare.com
SUMMARY:Open Fitness
DESCRIPTION:
URL:https://start.cic-totalcare.com/event/open-fitness/
CATEGORIES:SLD
END:VEVENT
BEGIN:VEVENT
DTSTART;TZID=UTC+0:20231002T160000
DTEND;TZID=UTC+0:20231002T170000
DTSTAMP:20260422T045540
CREATED:20230927T194227Z
LAST-MODIFIED:20230927T194227Z
UID:3692-1696262400-1696266000@start.cic-totalcare.com
SUMMARY:Karaoke
DESCRIPTION:
URL:https://start.cic-totalcare.com/event/karaoke-2/
CATEGORIES:SLD
END:VEVENT
BEGIN:VEVENT
DTSTART;TZID=UTC+0:20231002T160000
DTEND;TZID=UTC+0:20231002T170000
DTSTAMP:20260422T045540
CREATED:20230927T194502Z
LAST-MODIFIED:20230927T194502Z
UID:3706-1696262400-1696266000@start.cic-totalcare.com
SUMMARY:Piano Club
DESCRIPTION:
URL:https://start.cic-totalcare.com/event/piano-club/
CATEGORIES:SLD
END:VEVENT
BEGIN:VEVENT
DTSTART;TZID=UTC+0:20231002T160000
DTEND;TZID=UTC+0:20231002T170000
DTSTAMP:20260422T045540
CREATED:20230927T194636Z
LAST-MODIFIED:20230927T194636Z
UID:3720-1696262400-1696266000@start.cic-totalcare.com
SUMMARY:Robotics Club
DESCRIPTION:
URL:https://start.cic-totalcare.com/event/robotics-club/
CATEGORIES:SLD
END:VEVENT
BEGIN:VEVENT
DTSTART;TZID=UTC+0:20231002T163000
DTEND;TZID=UTC+0:20231002T174500
DTSTAMP:20260422T045540
CREATED:20230926T204953Z
LAST-MODIFIED:20230926T204953Z
UID:3636-1696264200-1696268700@start.cic-totalcare.com
SUMMARY:Cooking Club
DESCRIPTION:
URL:https://start.cic-totalcare.com/event/cooking-club/
END:VEVENT
END:VCALENDAR