BEGIN:VCALENDAR
VERSION:2.0
PRODID:-//Columbia International College - ECPv4.6.20.1//NONSGML v1.0//EN
CALSCALE:GREGORIAN
METHOD:PUBLISH
X-WR-CALNAME:Columbia International College
X-ORIGINAL-URL:https://start.cic-totalcare.com
X-WR-CALDESC:Events for Columbia International College
BEGIN:VEVENT
DTSTART;VALUE=DATE:20230819
DTEND;VALUE=DATE:20230820
DTSTAMP:20260422T080850
CREATED:20230814T193301Z
LAST-MODIFIED:20230814T193301Z
UID:3436-1692403200-1692489599@start.cic-totalcare.com
SUMMARY:Adventure Village
DESCRIPTION:
URL:https://start.cic-totalcare.com/event/adventure-village-2/
CATEGORIES:SLD
END:VEVENT
BEGIN:VEVENT
DTSTART;VALUE=DATE:20230819
DTEND;VALUE=DATE:20230820
DTSTAMP:20260422T080850
CREATED:20230818T200945Z
LAST-MODIFIED:20230818T200945Z
UID:3444-1692403200-1692489599@start.cic-totalcare.com
SUMMARY:Jumbo Checkers
DESCRIPTION:
URL:https://start.cic-totalcare.com/event/jumbo-checkers-3/
CATEGORIES:Residence
END:VEVENT
END:VCALENDAR