BEGIN:VCALENDAR
VERSION:2.0
PRODID:-//Columbia International College - ECPv4.6.20.1//NONSGML v1.0//EN
CALSCALE:GREGORIAN
METHOD:PUBLISH
X-WR-CALNAME:Columbia International College
X-ORIGINAL-URL:https://start.cic-totalcare.com
X-WR-CALDESC:Events for Columbia International College
BEGIN:VEVENT
DTSTART;VALUE=DATE:20230412
DTEND;VALUE=DATE:20230413
DTSTAMP:20260422T142813
CREATED:20230313T133433Z
LAST-MODIFIED:20230313T133433Z
UID:3107-1681257600-1681343999@start.cic-totalcare.com
SUMMARY:Basketball Intramurals
DESCRIPTION:
URL:https://start.cic-totalcare.com/event/basketball-intramurals-8/
CATEGORIES:SLD
END:VEVENT
BEGIN:VEVENT
DTSTART;VALUE=DATE:20230412
DTEND;VALUE=DATE:20230413
DTSTAMP:20260422T142813
CREATED:20230330T193406Z
LAST-MODIFIED:20230330T193406Z
UID:3193-1681257600-1681343999@start.cic-totalcare.com
SUMMARY:Open Kitchen
DESCRIPTION:
URL:https://start.cic-totalcare.com/event/open-kitchen-10/
CATEGORIES:Residence
END:VEVENT
BEGIN:VEVENT
DTSTART;TZID=UTC+0:20230412T160000
DTEND;TZID=UTC+0:20230412T170000
DTSTAMP:20260422T142813
CREATED:20230221T160023Z
LAST-MODIFIED:20230221T160023Z
UID:3091-1681315200-1681318800@start.cic-totalcare.com
SUMMARY:University Visit - University of Guelph
DESCRIPTION:
URL:https://start.cic-totalcare.com/event/university-visit-university-of-guelph/
CATEGORIES:UPO
END:VEVENT
END:VCALENDAR