BEGIN:VCALENDAR
VERSION:2.0
PRODID:-//Columbia International College - ECPv4.6.20.1//NONSGML v1.0//EN
CALSCALE:GREGORIAN
METHOD:PUBLISH
X-WR-CALNAME:Columbia International College
X-ORIGINAL-URL:https://start.cic-totalcare.com
X-WR-CALDESC:Events for Columbia International College
BEGIN:VEVENT
DTSTART;VALUE=DATE:20230405
DTEND;VALUE=DATE:20230409
DTSTAMP:20260422T142648
CREATED:20230313T133225Z
LAST-MODIFIED:20230313T133225Z
UID:3103-1680652800-1680998399@start.cic-totalcare.com
SUMMARY:Canada FIRST Robotics Event
DESCRIPTION:
URL:https://start.cic-totalcare.com/event/canada-first-robotics-event-2/
CATEGORIES:SLD
END:VEVENT
BEGIN:VEVENT
DTSTART;VALUE=DATE:20230405
DTEND;VALUE=DATE:20230407
DTSTAMP:20260422T142648
CREATED:20230313T133312Z
LAST-MODIFIED:20230313T133312Z
UID:3105-1680652800-1680825599@start.cic-totalcare.com
SUMMARY:Basketball Intramurals
DESCRIPTION:
URL:https://start.cic-totalcare.com/event/basketball-intramurals-7/
CATEGORIES:SLD
END:VEVENT
BEGIN:VEVENT
DTSTART;VALUE=DATE:20230406
DTEND;VALUE=DATE:20230407
DTSTAMP:20260422T142648
CREATED:20230330T193544Z
LAST-MODIFIED:20230330T193544Z
UID:3205-1680739200-1680825599@start.cic-totalcare.com
SUMMARY:RSL Meeting
DESCRIPTION:
URL:https://start.cic-totalcare.com/event/rsl-meeting/
CATEGORIES:Residence
END:VEVENT
BEGIN:VEVENT
DTSTART;VALUE=DATE:20230406
DTEND;VALUE=DATE:20230407
DTSTAMP:20260422T142648
CREATED:20230330T193658Z
LAST-MODIFIED:20230330T193658Z
UID:3207-1680739200-1680825599@start.cic-totalcare.com
SUMMARY:Easter Origami
DESCRIPTION:
URL:https://start.cic-totalcare.com/event/easter-origami/
CATEGORIES:Residence
END:VEVENT
END:VCALENDAR