BEGIN:VCALENDAR
VERSION:2.0
PRODID:-//Columbia International College - ECPv4.6.20.1//NONSGML v1.0//EN
CALSCALE:GREGORIAN
METHOD:PUBLISH
X-WR-CALNAME:Columbia International College
X-ORIGINAL-URL:https://start.cic-totalcare.com
X-WR-CALDESC:Events for Columbia International College
BEGIN:VEVENT
DTSTART;VALUE=DATE:20230218
DTEND;VALUE=DATE:20230219
DTSTAMP:20260422T174533
CREATED:20230127T185914Z
LAST-MODIFIED:20230127T185914Z
UID:2886-1676678400-1676764799@start.cic-totalcare.com
SUMMARY:AutoShow
DESCRIPTION:
URL:https://start.cic-totalcare.com/event/autoshow/
CATEGORIES:SLD
END:VEVENT
BEGIN:VEVENT
DTSTART;VALUE=DATE:20230218
DTEND;VALUE=DATE:20230219
DTSTAMP:20260422T174533
CREATED:20230127T185955Z
LAST-MODIFIED:20230127T185955Z
UID:2888-1676678400-1676764799@start.cic-totalcare.com
SUMMARY:Chicopee Tube Park
DESCRIPTION:
URL:https://start.cic-totalcare.com/event/chicopee-tube-park/
CATEGORIES:SLD
END:VEVENT
BEGIN:VEVENT
DTSTART;VALUE=DATE:20230218
DTEND;VALUE=DATE:20230219
DTSTAMP:20260422T174533
CREATED:20230208T161107Z
LAST-MODIFIED:20230208T161107Z
UID:2967-1676678400-1676764799@start.cic-totalcare.com
SUMMARY:Swimming Lessons
DESCRIPTION: \n
URL:https://start.cic-totalcare.com/event/swimming-lessons-2/
CATEGORIES:Residence
END:VEVENT
BEGIN:VEVENT
DTSTART;VALUE=DATE:20230218
DTEND;VALUE=DATE:20230219
DTSTAMP:20260422T174533
CREATED:20230208T161125Z
LAST-MODIFIED:20230208T161125Z
UID:2970-1676678400-1676764799@start.cic-totalcare.com
SUMMARY:Journaling
DESCRIPTION:
URL:https://start.cic-totalcare.com/event/journaling-3/
CATEGORIES:Residence
END:VEVENT
BEGIN:VEVENT
DTSTART;VALUE=DATE:20230218
DTEND;VALUE=DATE:20230219
DTSTAMP:20260422T174533
CREATED:20230208T161143Z
LAST-MODIFIED:20230208T161143Z
UID:2972-1676678400-1676764799@start.cic-totalcare.com
SUMMARY:Embroidery Night
DESCRIPTION:
URL:https://start.cic-totalcare.com/event/embroidery-night/
CATEGORIES:Residence
END:VEVENT
BEGIN:VEVENT
DTSTART;VALUE=DATE:20230218
DTEND;VALUE=DATE:20230219
DTSTAMP:20260422T174533
CREATED:20230208T161204Z
LAST-MODIFIED:20230208T161204Z
UID:2974-1676678400-1676764799@start.cic-totalcare.com
SUMMARY:PG RSL: Might and Talent Show
DESCRIPTION:
URL:https://start.cic-totalcare.com/event/pg-rsl-might-and-talent-show/
CATEGORIES:Residence
END:VEVENT
END:VCALENDAR