BEGIN:VCALENDAR
VERSION:2.0
PRODID:-//Columbia International College - ECPv4.6.20.1//NONSGML v1.0//EN
CALSCALE:GREGORIAN
METHOD:PUBLISH
X-WR-CALNAME:Columbia International College
X-ORIGINAL-URL:https://start.cic-totalcare.com
X-WR-CALDESC:Events for Columbia International College
BEGIN:VEVENT
DTSTART;VALUE=DATE:20230214
DTEND;VALUE=DATE:20230215
DTSTAMP:20260422T173620
CREATED:20230127T185809Z
LAST-MODIFIED:20230127T185809Z
UID:2882-1676332800-1676419199@start.cic-totalcare.com
SUMMARY:Valentines Day Event
DESCRIPTION:
URL:https://start.cic-totalcare.com/event/valentines-day-event/
CATEGORIES:SLD
END:VEVENT
BEGIN:VEVENT
DTSTART;VALUE=DATE:20230214
DTEND;VALUE=DATE:20230215
DTSTAMP:20260422T173620
CREATED:20230208T160657Z
LAST-MODIFIED:20230208T160657Z
UID:2948-1676332800-1676419199@start.cic-totalcare.com
SUMMARY:DIY Valentine's Day Chocolate Making
DESCRIPTION:
URL:https://start.cic-totalcare.com/event/diy-valentines-day-chocolate-making/
CATEGORIES:Residence
END:VEVENT
BEGIN:VEVENT
DTSTART;VALUE=DATE:20230214
DTEND;VALUE=DATE:20230215
DTSTAMP:20260422T173620
CREATED:20230208T160726Z
LAST-MODIFIED:20230208T160726Z
UID:2950-1676332800-1676419199@start.cic-totalcare.com
SUMMARY:Valentine's Day Cards to Seniors / Residence Students
DESCRIPTION:
URL:https://start.cic-totalcare.com/event/valentines-day-cards-to-seniors-residence-students/
CATEGORIES:Residence
END:VEVENT
END:VCALENDAR