BEGIN:VCALENDAR
VERSION:2.0
PRODID:-//Columbia International College - ECPv4.6.20.1//NONSGML v1.0//EN
CALSCALE:GREGORIAN
METHOD:PUBLISH
X-WR-CALNAME:Columbia International College
X-ORIGINAL-URL:https://start.cic-totalcare.com
X-WR-CALDESC:Events for Columbia International College
BEGIN:VEVENT
DTSTART;VALUE=DATE:20230211
DTEND;VALUE=DATE:20230212
DTSTAMP:20260422T174555
CREATED:20230127T185752Z
LAST-MODIFIED:20230127T185752Z
UID:2880-1676073600-1676159999@start.cic-totalcare.com
SUMMARY:We Love Hamilton Winter Walk for Heart&Stroke
DESCRIPTION:
URL:https://start.cic-totalcare.com/event/we-love-hamilton-winter-walk-for-heartstroke/
CATEGORIES:SLD
END:VEVENT
BEGIN:VEVENT
DTSTART;VALUE=DATE:20230211
DTEND;VALUE=DATE:20230212
DTSTAMP:20260422T174555
CREATED:20230208T155504Z
LAST-MODIFIED:20230208T162405Z
UID:2929-1676073600-1676159999@start.cic-totalcare.com
SUMMARY:Swimming Lessons
DESCRIPTION: \n
URL:https://start.cic-totalcare.com/event/swimming-lessons/
CATEGORIES:Residence
END:VEVENT
BEGIN:VEVENT
DTSTART;VALUE=DATE:20230211
DTEND;VALUE=DATE:20230212
DTSTAMP:20260422T174555
CREATED:20230208T155529Z
LAST-MODIFIED:20230208T155529Z
UID:2931-1676073600-1676159999@start.cic-totalcare.com
SUMMARY:Special Event: Crock a Doodle
DESCRIPTION:
URL:https://start.cic-totalcare.com/event/special-event-crock-a-doodle/
CATEGORIES:Residence
END:VEVENT
BEGIN:VEVENT
DTSTART;VALUE=DATE:20230211
DTEND;VALUE=DATE:20230212
DTSTAMP:20260422T174555
CREATED:20230208T155550Z
LAST-MODIFIED:20230208T155550Z
UID:2933-1676073600-1676159999@start.cic-totalcare.com
SUMMARY:PG RSL: Valentine's Day Baking
DESCRIPTION:
URL:https://start.cic-totalcare.com/event/pg-rsl-valentines-day-baking/
CATEGORIES:Residence
END:VEVENT
BEGIN:VEVENT
DTSTART;VALUE=DATE:20230211
DTEND;VALUE=DATE:20230212
DTSTAMP:20260422T174555
CREATED:20230208T155615Z
LAST-MODIFIED:20230208T155615Z
UID:2935-1676073600-1676159999@start.cic-totalcare.com
SUMMARY:PG RSL: Treasure Hunt
DESCRIPTION:
URL:https://start.cic-totalcare.com/event/pg-rsl-treasure-hunt/
CATEGORIES:Residence
END:VEVENT
END:VCALENDAR