BEGIN:VCALENDAR
VERSION:2.0
PRODID:-//Columbia International College - ECPv4.6.20.1//NONSGML v1.0//EN
CALSCALE:GREGORIAN
METHOD:PUBLISH
X-WR-CALNAME:Columbia International College
X-ORIGINAL-URL:https://start.cic-totalcare.com
X-WR-CALDESC:Events for Columbia International College
BEGIN:VEVENT
DTSTART;VALUE=DATE:20221031
DTEND;VALUE=DATE:20221101
DTSTAMP:20260422T222826
CREATED:20220921T184925Z
LAST-MODIFIED:20220921T184925Z
UID:2545-1667174400-1667260799@start.cic-totalcare.com
SUMMARY:Halloween Costume Contest
DESCRIPTION:
URL:https://start.cic-totalcare.com/event/halloween-costume-contest/
END:VEVENT
BEGIN:VEVENT
DTSTART;VALUE=DATE:20221031
DTEND;VALUE=DATE:20221101
DTSTAMP:20260422T222826
CREATED:20220921T184942Z
LAST-MODIFIED:20220921T184942Z
UID:2547-1667174400-1667260799@start.cic-totalcare.com
SUMMARY:Pumpkin Carving Contest
DESCRIPTION:
URL:https://start.cic-totalcare.com/event/pumpkin-carving-contest/
END:VEVENT
BEGIN:VEVENT
DTSTART;TZID=UTC+0:20221031T160000
DTEND;TZID=UTC+0:20221031T170000
DTSTAMP:20260422T222826
CREATED:20220913T204024Z
LAST-MODIFIED:20220913T205046Z
UID:2495-1667232000-1667235600@start.cic-totalcare.com
SUMMARY:Workshop - Hong Kong University Application Workshop
DESCRIPTION:
URL:https://start.cic-totalcare.com/event/workshop-hong-kong-university-application-workshop/
CATEGORIES:UPO
END:VEVENT
END:VCALENDAR