BEGIN:VCALENDAR
VERSION:2.0
PRODID:-//Columbia International College - ECPv4.6.20.1//NONSGML v1.0//EN
CALSCALE:GREGORIAN
METHOD:PUBLISH
X-WR-CALNAME:Columbia International College
X-ORIGINAL-URL:https://start.cic-totalcare.com
X-WR-CALDESC:Events for Columbia International College
BEGIN:VEVENT
DTSTART;VALUE=DATE:20220823
DTEND;VALUE=DATE:20220824
DTSTAMP:20260423T031802
CREATED:20220815T203359Z
LAST-MODIFIED:20220815T203359Z
UID:2419-1661212800-1661299199@start.cic-totalcare.com
SUMMARY:Vaccine Clinic
DESCRIPTION:Register by August 17\, 2022 @ Reach App \n
URL:https://start.cic-totalcare.com/event/vaccine-clinic/
END:VEVENT
END:VCALENDAR