BEGIN:VCALENDAR
VERSION:2.0
PRODID:-//Columbia International College - ECPv4.6.20.1//NONSGML v1.0//EN
CALSCALE:GREGORIAN
METHOD:PUBLISH
X-WR-CALNAME:Columbia International College
X-ORIGINAL-URL:https://start.cic-totalcare.com
X-WR-CALDESC:Events for Columbia International College
BEGIN:VEVENT
DTSTART;VALUE=DATE:20210801
DTEND;VALUE=DATE:20210802
DTSTAMP:20260423T225257
CREATED:20210412T205214Z
LAST-MODIFIED:20210413T174606Z
UID:1962-1627776000-1627862399@start.cic-totalcare.com
SUMMARY:Residence check-in starts
DESCRIPTION:
URL:https://start.cic-totalcare.com/event/residence-check-in-starts/
CATEGORIES:Fall Semester - General
END:VEVENT
BEGIN:VEVENT
DTSTART;TZID=UTC+0:20210801T130000
DTEND;TZID=UTC+0:20210801T150000
DTSTAMP:20260423T225257
CREATED:20210728T184251Z
LAST-MODIFIED:20210728T185301Z
UID:2136-1627822800-1627830000@start.cic-totalcare.com
SUMMARY:Welcome to Canada Eh? Cultural Fluency Activity
DESCRIPTION:for all August in-person new students \n
URL:https://start.cic-totalcare.com/event/welcome-to-canada-eh-cultural-fluency-activity/
CATEGORIES:Residence
END:VEVENT
END:VCALENDAR